BEGIN:VCALENDAR
VERSION:2.0
PRODID:-//Westchester County Parks Events Calendar - ECPv6.15.20//NONSGML v1.0//EN
CALSCALE:GREGORIAN
METHOD:PUBLISH
X-WR-CALNAME:Westchester County Parks Events Calendar
X-ORIGINAL-URL:https://parksevents.westchestercountyny.gov
X-WR-CALDESC:Events for Westchester County Parks Events Calendar
REFRESH-INTERVAL;VALUE=DURATION:PT1H
X-Robots-Tag:noindex
X-PUBLISHED-TTL:PT1H
BEGIN:VTIMEZONE
TZID:America/New_York
BEGIN:DAYLIGHT
TZOFFSETFROM:-0500
TZOFFSETTO:-0400
TZNAME:EDT
DTSTART:20250309T070000
END:DAYLIGHT
BEGIN:STANDARD
TZOFFSETFROM:-0400
TZOFFSETTO:-0500
TZNAME:EST
DTSTART:20251102T060000
END:STANDARD
BEGIN:DAYLIGHT
TZOFFSETFROM:-0500
TZOFFSETTO:-0400
TZNAME:EDT
DTSTART:20260308T070000
END:DAYLIGHT
BEGIN:STANDARD
TZOFFSETFROM:-0400
TZOFFSETTO:-0500
TZNAME:EST
DTSTART:20261101T060000
END:STANDARD
BEGIN:DAYLIGHT
TZOFFSETFROM:-0500
TZOFFSETTO:-0400
TZNAME:EDT
DTSTART:20270314T070000
END:DAYLIGHT
BEGIN:STANDARD
TZOFFSETFROM:-0400
TZOFFSETTO:-0500
TZNAME:EST
DTSTART:20271107T060000
END:STANDARD
END:VTIMEZONE
BEGIN:VEVENT
DTSTART;TZID=America/New_York:20260419T093000
DTEND;TZID=America/New_York:20260419T120000
DTSTAMP:20260419T092328
CREATED:20260326T150047Z
LAST-MODIFIED:20260326T150047Z
UID:10014842-1776591000-1776600000@parksevents.westchestercountyny.gov
SUMMARY:Project FeederWatch
DESCRIPTION:Join Saw Mill River Audubon for a wonderful day of viewing our local birds at the Nature Center feeders. Beginners to experts all welcome. Free to the Public.
URL:https://parksevents.westchestercountyny.gov/event/project-feederwatch/2026-04-19/
LOCATION:Croton Point Park\, 1 Croton Point Avenue\, Croton-On-Hudson\, NY\, 10520\, United States
ATTACH;FMTTYPE=image/jpeg:https://parksevents.westchestercountyny.gov/wp-content/uploads/2025/12/bird-feeder-1.jpg
END:VEVENT
BEGIN:VEVENT
DTSTART;TZID=America/New_York:20260511T070000
DTEND;TZID=America/New_York:20260511T090000
DTSTAMP:20260419T092328
CREATED:20260310T160812Z
LAST-MODIFIED:20260310T160812Z
UID:10011744-1778482800-1778490000@parksevents.westchestercountyny.gov
SUMMARY:Guided Bird Walk with Saw Mill River Audubon
DESCRIPTION:Join the Saw Mill River Audubon for a free guided bird walk at Croton Point Park. Multiple dates available. Registration required. \nregister now
URL:https://parksevents.westchestercountyny.gov/event/guided-bird-walk-with-saw-mill-river-audubon/2026-05-11/
LOCATION:Croton Point Park\, 1 Croton Point Avenue\, Croton-On-Hudson\, NY\, 10520\, United States
CATEGORIES:Nature & the Outdoors
ATTACH;FMTTYPE=image/jpeg:https://parksevents.westchestercountyny.gov/wp-content/uploads/2025/06/SE_GroupBirdViewing.jpg
END:VEVENT
BEGIN:VEVENT
DTSTART;TZID=America/New_York:20260516T120000
DTEND;TZID=America/New_York:20260516T160000
DTSTAMP:20260419T092328
CREATED:20260311T205014Z
LAST-MODIFIED:20260312T124454Z
UID:10013138-1778932800-1778947200@parksevents.westchestercountyny.gov
SUMMARY:Tailgate Taste-Off
DESCRIPTION:Tailgate Taste-Off: Benefiting Westchester Parks Foundation \nEat\, Vote\, and Explore for a Cause! \nJoin us for a high-energy culinary showdown at the stunning Croton Point Park. Tailgate Taste-Off isn’t just another food festival—it’s a “People’s Choice” competition where you hold the power. We’ve hand-selected 10 of the Hudson Valley’s premier food trucks to go head-to-head\, and they need your palate to decide who reigns supreme. \nBest of all? Every bite helps preserve the natural beauty of our community. All proceeds benefit the Westchester Parks Foundation (WPF)\, ensuring our green spaces remain vibrant for generations to come. \nPro Tip: Grab your tickets early! Our Early Bird pricing offers a 50% discount off the gate price—but only for the first 500 foodies. \nTICKETS
URL:https://parksevents.westchestercountyny.gov/event/tailgate-taste-off/
LOCATION:Croton Point Park\, 1 Croton Point Avenue\, Croton-On-Hudson\, NY\, 10520\, United States
CATEGORIES:Family Entertainment,Recreation & Activities,Special Events
ATTACH;FMTTYPE=image/jpeg:https://parksevents.westchestercountyny.gov/wp-content/uploads/2026/03/pexels-photo-5920631-3-e1773319450425.jpg
END:VEVENT
BEGIN:VEVENT
DTSTART;TZID=America/New_York:20260517T130000
DTEND;TZID=America/New_York:20260517T143000
DTSTAMP:20260419T092329
CREATED:20260306T194139Z
LAST-MODIFIED:20260306T194139Z
UID:10011756-1779022800-1779028200@parksevents.westchestercountyny.gov
SUMMARY:The Sacred Rice Archaeological Project
DESCRIPTION:Zoe Crossland\, Associate professor of Archaeology at Columbia University\, will discuss research on the ethnobotany of Madagascar’s Central Highlands.
URL:https://parksevents.westchestercountyny.gov/event/the-sacred-rice-archaeological-project/
LOCATION:Croton Point Park\, 1 Croton Point Avenue\, Croton-On-Hudson\, NY\, 10520\, United States
CATEGORIES:Arts, Culture & History
ATTACH;FMTTYPE=image/jpeg:https://parksevents.westchestercountyny.gov/wp-content/uploads/2026/02/zoe.jpg
END:VEVENT
BEGIN:VEVENT
DTSTART;TZID=America/New_York:20260530T093000
DTEND;TZID=America/New_York:20260530T110000
DTSTAMP:20260419T092329
CREATED:20260306T191343Z
LAST-MODIFIED:20260306T191343Z
UID:10011966-1780133400-1780138800@parksevents.westchestercountyny.gov
SUMMARY:Grasslands Restoration Tour
DESCRIPTION:Learn the history of the Croton Point grassland creation and view the many birds\, insects\, and native plants that live there on this walk and talk. Meet at the parking lot by the RV park.
URL:https://parksevents.westchestercountyny.gov/event/grasslands-restoration-tour/
LOCATION:Croton Point Park\, 1 Croton Point Avenue\, Croton-On-Hudson\, NY\, 10520\, United States
CATEGORIES:Nature & the Outdoors
ATTACH;FMTTYPE=image/jpeg:https://parksevents.westchestercountyny.gov/wp-content/uploads/2025/06/SE_crotonbeauty.jpg
END:VEVENT
BEGIN:VEVENT
DTSTART;TZID=America/New_York:20260614T130000
DTEND;TZID=America/New_York:20260614T143000
DTSTAMP:20260419T092329
CREATED:20260304T213125Z
LAST-MODIFIED:20260304T213125Z
UID:10011759-1781442000-1781447400@parksevents.westchestercountyny.gov
SUMMARY:Battle of Ridgefield Archaeology Project
DESCRIPTION:A community-led movement to research the important Revolutionary War Battle of Ridgefield\, Conn of April 1777 led to many new insights via innovative approaches and technologies.
URL:https://parksevents.westchestercountyny.gov/event/battle-of-ridgefield-archaeology-project/
LOCATION:Croton Point Park\, 1 Croton Point Avenue\, Croton-On-Hudson\, NY\, 10520\, United States
CATEGORIES:Arts, Culture & History
ATTACH;FMTTYPE=image/jpeg:https://parksevents.westchestercountyny.gov/wp-content/uploads/2026/02/battle-of-ridgefield.jpg
END:VEVENT
BEGIN:VEVENT
DTSTART;VALUE=DATE:20260621
DTEND;VALUE=DATE:20260622
DTSTAMP:20260419T092329
CREATED:20260416T163259Z
LAST-MODIFIED:20260416T163331Z
UID:10014948-1782000000-1782086399@parksevents.westchestercountyny.gov
SUMMARY:Hudson River Music Festival
DESCRIPTION:Westchester County Parks welcomes the Hudson River Music Festival back to Croton Point Park! \nThis all day pass lets you experience incredible live performances across multiple stages\, explore opportunities to take action\, enjoy family-friendly music and activities\, and wander a vibrant marketplace featuring local artisans\, craft beer\, and regional food vendors—all set against the energy and natural beauty of the Hudson River. \nEnjoy a day of music\, art\, environmental awareness and community.\nPerformers include Jesse Welles\, Warren Haynes with Grahame Lesh and Daniel Donato\, Margo Price\, Cimafunk\, and many more. \nBUY TICKETS\nParking is NOT included with ticket
URL:https://parksevents.westchestercountyny.gov/event/hudson-river-music-festival/
LOCATION:Croton Point Park\, 1 Croton Point Avenue\, Croton-On-Hudson\, NY\, 10520\, United States
CATEGORIES:ALL PROGRAMS,Festival,Special Events
ATTACH;FMTTYPE=image/jpeg:https://parksevents.westchestercountyny.gov/wp-content/uploads/2026/04/hr_festival.jpg
END:VEVENT
END:VCALENDAR