BEGIN:VCALENDAR
VERSION:2.0
PRODID:-//Westchester County Parks Events Calendar - ECPv6.15.20//NONSGML v1.0//EN
CALSCALE:GREGORIAN
METHOD:PUBLISH
X-ORIGINAL-URL:https://parksevents.westchestercountyny.gov
X-WR-CALDESC:Events for Westchester County Parks Events Calendar
REFRESH-INTERVAL;VALUE=DURATION:PT1H
X-Robots-Tag:noindex
X-PUBLISHED-TTL:PT1H
BEGIN:VTIMEZONE
TZID:America/New_York
BEGIN:DAYLIGHT
TZOFFSETFROM:-0500
TZOFFSETTO:-0400
TZNAME:EDT
DTSTART:20250309T070000
END:DAYLIGHT
BEGIN:STANDARD
TZOFFSETFROM:-0400
TZOFFSETTO:-0500
TZNAME:EST
DTSTART:20251102T060000
END:STANDARD
BEGIN:DAYLIGHT
TZOFFSETFROM:-0500
TZOFFSETTO:-0400
TZNAME:EDT
DTSTART:20260308T070000
END:DAYLIGHT
BEGIN:STANDARD
TZOFFSETFROM:-0400
TZOFFSETTO:-0500
TZNAME:EST
DTSTART:20261101T060000
END:STANDARD
BEGIN:DAYLIGHT
TZOFFSETFROM:-0500
TZOFFSETTO:-0400
TZNAME:EDT
DTSTART:20270314T070000
END:DAYLIGHT
BEGIN:STANDARD
TZOFFSETFROM:-0400
TZOFFSETTO:-0500
TZNAME:EST
DTSTART:20271107T060000
END:STANDARD
END:VTIMEZONE
BEGIN:VEVENT
DTSTART;TZID=America/New_York:20260418T110000
DTEND;TZID=America/New_York:20260418T140000
DTSTAMP:20260421T180058
CREATED:20260310T152126Z
LAST-MODIFIED:20260310T152147Z
UID:10011777-1776510000-1776520800@parksevents.westchestercountyny.gov
SUMMARY:Invasive Plants & How You Can Help
DESCRIPTION:Volunteer and join Parks staff to learn about our local invasive plants and pitch in to manage them.
URL:https://parksevents.westchestercountyny.gov/event/invasive-plants-how-you-can-help-2/
LOCATION:Croton Point Park\, 1A Croton Point Avenue\, Croton-on-Hudson\, NY\, 10520\, United States
CATEGORIES:Nature & the Outdoors,Volunteer
ATTACH;FMTTYPE=image/jpeg:https://parksevents.westchestercountyny.gov/wp-content/uploads/2025/06/SE_InvasivesPlants.jpg
ORGANIZER;CN="John Phillips":MAILTO:jqpd@westchestercountyNY.gov
END:VEVENT
BEGIN:VEVENT
DTSTART;TZID=America/New_York:20260412T100000
DTEND;TZID=America/New_York:20260412T120000
DTSTAMP:20260421T180058
CREATED:20260310T160631Z
LAST-MODIFIED:20260421T162730Z
UID:10012886-1775988000-1775995200@parksevents.westchestercountyny.gov
SUMMARY:Project Feeder Watch!
DESCRIPTION:Join Hudson River Audubon to observe and learn about our local birds! Beginners to experts- all welcome!
URL:https://parksevents.westchestercountyny.gov/event/project-feeder-watch-2/2026-04-12/
LOCATION:Croton Point Park\, 1A Croton Point Avenue\, Croton-on-Hudson\, NY\, 10520\, United States
CATEGORIES:Nature & the Outdoors
ATTACH;FMTTYPE=image/jpeg:https://parksevents.westchestercountyny.gov/wp-content/uploads/2025/12/bird-feeder-1.jpg
ORGANIZER;CN="John Phillips":MAILTO:jqpd@westchestercountyNY.gov
END:VEVENT
END:VCALENDAR