BEGIN:VCALENDAR
VERSION:2.0
PRODID:-//Westchester County Parks Events Calendar - ECPv6.15.20//NONSGML v1.0//EN
CALSCALE:GREGORIAN
METHOD:PUBLISH
X-ORIGINAL-URL:https://parksevents.westchestercountyny.gov
X-WR-CALDESC:Events for Westchester County Parks Events Calendar
REFRESH-INTERVAL;VALUE=DURATION:PT1H
X-Robots-Tag:noindex
X-PUBLISHED-TTL:PT1H
BEGIN:VTIMEZONE
TZID:America/New_York
BEGIN:DAYLIGHT
TZOFFSETFROM:-0500
TZOFFSETTO:-0400
TZNAME:EDT
DTSTART:20250309T070000
END:DAYLIGHT
BEGIN:STANDARD
TZOFFSETFROM:-0400
TZOFFSETTO:-0500
TZNAME:EST
DTSTART:20251102T060000
END:STANDARD
BEGIN:DAYLIGHT
TZOFFSETFROM:-0500
TZOFFSETTO:-0400
TZNAME:EDT
DTSTART:20260308T070000
END:DAYLIGHT
BEGIN:STANDARD
TZOFFSETFROM:-0400
TZOFFSETTO:-0500
TZNAME:EST
DTSTART:20261101T060000
END:STANDARD
BEGIN:DAYLIGHT
TZOFFSETFROM:-0500
TZOFFSETTO:-0400
TZNAME:EDT
DTSTART:20270314T070000
END:DAYLIGHT
BEGIN:STANDARD
TZOFFSETFROM:-0400
TZOFFSETTO:-0500
TZNAME:EST
DTSTART:20271107T060000
END:STANDARD
END:VTIMEZONE
BEGIN:VEVENT
DTSTART;TZID=America/New_York:20260502T100000
DTEND;TZID=America/New_York:20260502T110000
DTSTAMP:20260421T092352
CREATED:20260310T174115Z
LAST-MODIFIED:20260328T143805Z
UID:10011155-1777716000-1777719600@parksevents.westchestercountyny.gov
SUMMARY:Native Tree and Shrub Give Away
DESCRIPTION:Support wildlife with native plants. Lasdon will be giving away a variety of native bareroot trees and shrubs for you to plant at home. Sign-up to guarantee yours. Plants can be picked up at the Welcome Center. \nregister now
URL:https://parksevents.westchestercountyny.gov/event/native-tree-and-shrub-give-away/
LOCATION:Lasdon Public Gardens\, 2610 Amawalk Road\, Route 35\, Katonah\, NY\, 10536\, United States
CATEGORIES:Nature & the Outdoors
ATTACH;FMTTYPE=image/jpeg:https://parksevents.westchestercountyny.gov/wp-content/uploads/2026/03/tree-giveaway.jpg
ORGANIZER;CN="Emily Fountain":MAILTO:elff@westchestercountyny.gov
END:VEVENT
BEGIN:VEVENT
DTSTART;TZID=America/New_York:20260509T110000
DTEND;TZID=America/New_York:20260509T120000
DTSTAMP:20260421T092352
CREATED:20260306T212835Z
LAST-MODIFIED:20260306T212835Z
UID:10011137-1778324400-1778328000@parksevents.westchestercountyny.gov
SUMMARY:Mom and Me Tea Party
DESCRIPTION:Share an enchanting moment with Mom over tea inside Lasdon’s Glass House Conservatory. This Mother’s Day\, express your love for Mom by creating a hand-picked flower bouquet. The bouquet will become the center piece for your table while you enjoy tea and nibbles over priceless conversation\, write love notes or capture the moment with a picture in the photo booth.    \nFor families of all ages  \n 
URL:https://parksevents.westchestercountyny.gov/event/mom-and-me-tea-party/
LOCATION:Lasdon Public Gardens\, 2610 Amawalk Road\, Route 35\, Katonah\, NY\, 10536\, United States
CATEGORIES:Special Events
ATTACH;FMTTYPE=image/jpeg:https://parksevents.westchestercountyny.gov/wp-content/uploads/2025/06/tea-and-read.jpg
ORGANIZER;CN="Emily Fountain":MAILTO:elff@westchestercountyny.gov
END:VEVENT
BEGIN:VEVENT
DTSTART;TZID=America/New_York:20260520T133000
DTEND;TZID=America/New_York:20260520T143000
DTSTAMP:20260421T092352
CREATED:20260306T194720Z
LAST-MODIFIED:20260306T195353Z
UID:10011161-1779283800-1779287400@parksevents.westchestercountyny.gov
SUMMARY:Around the World Fair
DESCRIPTION:Come learn\, laugh and travel the world – one poster at a time. Discover amazing facts\, traditions\, colorful flags\, music\, art\, fun crafts\, and tasty treats from different cultures. Bring your family\, friends\, and your curiosity and get ready to explore! Everyone is welcome! \nFor $5 you will receive a passport\, stamp from each county you visit\, a coloring sheet at each country\, and a helpful list of questions to ask. Adults will be free unless they want to join in on the fun too with a passport. All information presented by children of homeschool families. Come support them and ask them what they have learned. Suggested for ages 4 and up.
URL:https://parksevents.westchestercountyny.gov/event/around-the-world-fair/
LOCATION:Lasdon Public Gardens\, 2610 Amawalk Road\, Route 35\, Katonah\, NY\, 10536\, United States
CATEGORIES:Arts, Culture & History
ATTACH;FMTTYPE=image/jpeg:https://parksevents.westchestercountyny.gov/wp-content/uploads/2026/03/around-the-world.jpg
ORGANIZER;CN="Emily Fountain":MAILTO:elff@westchestercountyny.gov
END:VEVENT
BEGIN:VEVENT
DTSTART;TZID=America/New_York:20260529T100000
DTEND;TZID=America/New_York:20260531T150000
DTSTAMP:20260421T092352
CREATED:20260306T191451Z
LAST-MODIFIED:20260306T191451Z
UID:10011158-1780048800-1780239600@parksevents.westchestercountyny.gov
SUMMARY:Student Art Show
DESCRIPTION:On view for one weekend only in the Glass House Conservatory\, an exhibition of student work created in the Homeschool Art Program at Lasdon Public Gardens.  \nregister now
URL:https://parksevents.westchestercountyny.gov/event/student-art-show/
LOCATION:Lasdon Public Gardens\, 2610 Amawalk Road\, Route 35\, Katonah\, NY\, 10536\, United States
CATEGORIES:Arts, Culture & History,Special Events
ATTACH;FMTTYPE=image/jpeg:https://parksevents.westchestercountyny.gov/wp-content/uploads/2025/06/SE_PhotoArtExhibit.jpg
ORGANIZER;CN="Emily Fountain":MAILTO:elff@westchestercountyny.gov
END:VEVENT
END:VCALENDAR