BEGIN:VCALENDAR
VERSION:2.0
PRODID:-//Westchester County Parks Events Calendar - ECPv6.15.20//NONSGML v1.0//EN
CALSCALE:GREGORIAN
METHOD:PUBLISH
X-WR-CALNAME:Westchester County Parks Events Calendar
X-ORIGINAL-URL:https://parksevents.westchestercountyny.gov
X-WR-CALDESC:Events for Westchester County Parks Events Calendar
REFRESH-INTERVAL;VALUE=DURATION:PT1H
X-Robots-Tag:noindex
X-PUBLISHED-TTL:PT1H
BEGIN:VTIMEZONE
TZID:America/New_York
BEGIN:DAYLIGHT
TZOFFSETFROM:-0500
TZOFFSETTO:-0400
TZNAME:EDT
DTSTART:20250309T070000
END:DAYLIGHT
BEGIN:STANDARD
TZOFFSETFROM:-0400
TZOFFSETTO:-0500
TZNAME:EST
DTSTART:20251102T060000
END:STANDARD
BEGIN:DAYLIGHT
TZOFFSETFROM:-0500
TZOFFSETTO:-0400
TZNAME:EDT
DTSTART:20260308T070000
END:DAYLIGHT
BEGIN:STANDARD
TZOFFSETFROM:-0400
TZOFFSETTO:-0500
TZNAME:EST
DTSTART:20261101T060000
END:STANDARD
BEGIN:DAYLIGHT
TZOFFSETFROM:-0500
TZOFFSETTO:-0400
TZNAME:EDT
DTSTART:20270314T070000
END:DAYLIGHT
BEGIN:STANDARD
TZOFFSETFROM:-0400
TZOFFSETTO:-0500
TZNAME:EST
DTSTART:20271107T060000
END:STANDARD
END:VTIMEZONE
BEGIN:VEVENT
DTSTART;TZID=America/New_York:20260423T100000
DTEND;TZID=America/New_York:20260423T113000
DTSTAMP:20260420T042859
CREATED:20260311T200015Z
LAST-MODIFIED:20260328T142459Z
UID:10011170-1776938400-1776943800@parksevents.westchestercountyny.gov
SUMMARY:Soft Landings: Playtime for Littles at Lasdon
DESCRIPTION:Let’s gather together to enjoy early growth in the gardens\, record our stories in a journal\, and learn about tools. We will experiment with seeds and roots\, build with sticks\, stems\, rocks and blocks\, and exercise our imagination. We always end with gratitude for forest friends and a cup of warm tea. Dress for the weather and bring a snack. Ages 18 mo. – 4 years \nregister & pay
URL:https://parksevents.westchestercountyny.gov/event/soft-landings-playtime-for-littles-at-lasdon/2026-04-23/
LOCATION:Lasdon Public Gardens\, 2610 Amawalk Road\, Route 35\, Katonah\, NY\, 10536\, United States
CATEGORIES:Nature & the Outdoors
ATTACH;FMTTYPE=image/jpeg:https://parksevents.westchestercountyny.gov/wp-content/uploads/2026/03/littles.jpg
ORGANIZER;CN="Deanna Novak":MAILTO:dbnn@westchestercountyny.gov
END:VEVENT
BEGIN:VEVENT
DTSTART;TZID=America/New_York:20260521T100000
DTEND;TZID=America/New_York:20260521T113000
DTSTAMP:20260420T042859
CREATED:20260306T193642Z
LAST-MODIFIED:20260306T193642Z
UID:10011332-1779357600-1779363000@parksevents.westchestercountyny.gov
SUMMARY:Stay and Play: Junior Stewardship Hour in the Soft Landing Meadow
DESCRIPTION:Find us between the Dino and Fairy trails for a chance to dig in and help with some gentle\, playful\, and educational gardening in our meadow restoration project. All ages.
URL:https://parksevents.westchestercountyny.gov/event/stay-and-play-junior-stewardship-hour-in-the-soft-landing-meadow/2026-05-21/
LOCATION:Lasdon Public Gardens\, 2610 Amawalk Road\, Route 35\, Katonah\, NY\, 10536\, United States
CATEGORIES:Nature & the Outdoors
ATTACH;FMTTYPE=image/jpeg:https://parksevents.westchestercountyny.gov/wp-content/uploads/2025/06/SE_Lasdontrees.jpg
ORGANIZER;CN="Deanna Novak":MAILTO:dbnn@westchestercountyny.gov
END:VEVENT
BEGIN:VEVENT
DTSTART;TZID=America/New_York:20260620T090000
DTEND;TZID=America/New_York:20260620T110000
DTSTAMP:20260420T042859
CREATED:20260304T211031Z
LAST-MODIFIED:20260304T211031Z
UID:10011503-1781946000-1781953200@parksevents.westchestercountyny.gov
SUMMARY:Pollinator Literacy Trail
DESCRIPTION:Pick up your booklet in the Welcome Center and connect to the life of pollinators at Lasdon. Enjoy a special self-guided garden tour and scavenger hunt and taste a cool floral drink. The first day of summer is a special chance to celebrate all that is blooming for National Pollinator Week. All ages.
URL:https://parksevents.westchestercountyny.gov/event/pollinator-literacy-trail/
LOCATION:Lasdon Public Gardens\, 2610 Amawalk Road\, Route 35\, Katonah\, NY\, 10536\, United States
CATEGORIES:Nature & the Outdoors
ATTACH;FMTTYPE=image/jpeg:https://parksevents.westchestercountyny.gov/wp-content/uploads/2025/06/swallowtail_butterfly.jpg
ORGANIZER;CN="Deanna Novak":MAILTO:dbnn@westchestercountyny.gov
END:VEVENT
END:VCALENDAR