BEGIN:VCALENDAR
VERSION:2.0
PRODID:-//Westchester County Parks Events Calendar - ECPv6.15.20//NONSGML v1.0//EN
CALSCALE:GREGORIAN
METHOD:PUBLISH
X-ORIGINAL-URL:https://parksevents.westchestercountyny.gov
X-WR-CALDESC:Events for Westchester County Parks Events Calendar
REFRESH-INTERVAL;VALUE=DURATION:PT1H
X-Robots-Tag:noindex
X-PUBLISHED-TTL:PT1H
BEGIN:VTIMEZONE
TZID:America/New_York
BEGIN:DAYLIGHT
TZOFFSETFROM:-0500
TZOFFSETTO:-0400
TZNAME:EDT
DTSTART:20250309T070000
END:DAYLIGHT
BEGIN:STANDARD
TZOFFSETFROM:-0400
TZOFFSETTO:-0500
TZNAME:EST
DTSTART:20251102T060000
END:STANDARD
BEGIN:DAYLIGHT
TZOFFSETFROM:-0500
TZOFFSETTO:-0400
TZNAME:EDT
DTSTART:20260308T070000
END:DAYLIGHT
BEGIN:STANDARD
TZOFFSETFROM:-0400
TZOFFSETTO:-0500
TZNAME:EST
DTSTART:20261101T060000
END:STANDARD
BEGIN:DAYLIGHT
TZOFFSETFROM:-0500
TZOFFSETTO:-0400
TZNAME:EDT
DTSTART:20270314T070000
END:DAYLIGHT
BEGIN:STANDARD
TZOFFSETFROM:-0400
TZOFFSETTO:-0500
TZNAME:EST
DTSTART:20271107T060000
END:STANDARD
END:VTIMEZONE
BEGIN:VEVENT
DTSTART;TZID=America/New_York:20260412T130000
DTEND;TZID=America/New_York:20260412T143000
DTSTAMP:20260421T111654
CREATED:20260310T154015Z
LAST-MODIFIED:20260310T154015Z
UID:10011975-1775998800-1776004200@parksevents.westchestercountyny.gov
SUMMARY:Wildlife Detective Walk
DESCRIPTION:Have you always wanted to be a wildlife detective? Well now is your chance! We will give you “detective checklist” and go on a hike looking for track clues\, animal signs\, scat\, nests and sounds. Make sure you bring your tracking skills with you!
URL:https://parksevents.westchestercountyny.gov/event/wildlife-detective-walk/
LOCATION:Trailside Nature Museum at Ward Pound Ridge Reservation\, Reservation Road\, Pound Ridge\, NY\, 10576\, United States
CATEGORIES:Family Entertainment,Nature & the Outdoors,Recreation & Activities
ATTACH;FMTTYPE=image/jpeg:https://parksevents.westchestercountyny.gov/wp-content/uploads/2025/06/SE_AnimalTracks.jpg
END:VEVENT
BEGIN:VEVENT
DTSTART;TZID=America/New_York:20260411T130000
DTEND;TZID=America/New_York:20260411T143000
DTSTAMP:20260421T111654
CREATED:20260310T160005Z
LAST-MODIFIED:20260310T160005Z
UID:10011984-1775912400-1775917800@parksevents.westchestercountyny.gov
SUMMARY:"Insect Investigators"
DESCRIPTION:Today you will be an entomologist!  Using sweep nets\, hand lenses and bug viewers you will learn how to identify different insects\, learn their body parts and some interesting facts about each of them.
URL:https://parksevents.westchestercountyny.gov/event/insect-investigators/
LOCATION:Trailside Nature Museum at Ward Pound Ridge Reservation\, Reservation Road\, Pound Ridge\, NY\, 10576\, United States
CATEGORIES:Nature & the Outdoors,Workshops Education
ATTACH;FMTTYPE=image/jpeg:https://parksevents.westchestercountyny.gov/wp-content/uploads/2025/06/SE_dragonfly.jpg
END:VEVENT
BEGIN:VEVENT
DTSTART;TZID=America/New_York:20260404T130000
DTEND;TZID=America/New_York:20260404T143000
DTSTAMP:20260421T111654
CREATED:20260311T205544Z
LAST-MODIFIED:20260311T205606Z
UID:10011972-1775307600-1775313000@parksevents.westchestercountyny.gov
SUMMARY:Nature Reset Walk
DESCRIPTION:Come unwind in the woods for some stress relief\, wellness and the beauty that Ward Pound Ridge has to offer.
URL:https://parksevents.westchestercountyny.gov/event/nature-reset-walk/
LOCATION:Trailside Nature Museum at Ward Pound Ridge Reservation\, Reservation Road\, Pound Ridge\, NY\, 10576\, United States
CATEGORIES:Nature & the Outdoors
ATTACH;FMTTYPE=image/jpeg:https://parksevents.westchestercountyny.gov/wp-content/uploads/2025/06/SE_Ward-Pound-Ridge.jpg
END:VEVENT
END:VCALENDAR