BEGIN:VCALENDAR
VERSION:2.0
PRODID:-//Westchester County Parks Events Calendar - ECPv6.15.20//NONSGML v1.0//EN
CALSCALE:GREGORIAN
METHOD:PUBLISH
X-ORIGINAL-URL:https://parksevents.westchestercountyny.gov
X-WR-CALDESC:Events for Westchester County Parks Events Calendar
REFRESH-INTERVAL;VALUE=DURATION:PT1H
X-Robots-Tag:noindex
X-PUBLISHED-TTL:PT1H
BEGIN:VTIMEZONE
TZID:America/New_York
BEGIN:DAYLIGHT
TZOFFSETFROM:-0500
TZOFFSETTO:-0400
TZNAME:EDT
DTSTART:20250309T070000
END:DAYLIGHT
BEGIN:STANDARD
TZOFFSETFROM:-0400
TZOFFSETTO:-0500
TZNAME:EST
DTSTART:20251102T060000
END:STANDARD
BEGIN:DAYLIGHT
TZOFFSETFROM:-0500
TZOFFSETTO:-0400
TZNAME:EDT
DTSTART:20260308T070000
END:DAYLIGHT
BEGIN:STANDARD
TZOFFSETFROM:-0400
TZOFFSETTO:-0500
TZNAME:EST
DTSTART:20261101T060000
END:STANDARD
BEGIN:DAYLIGHT
TZOFFSETFROM:-0500
TZOFFSETTO:-0400
TZNAME:EDT
DTSTART:20270314T070000
END:DAYLIGHT
BEGIN:STANDARD
TZOFFSETFROM:-0400
TZOFFSETTO:-0500
TZNAME:EST
DTSTART:20271107T060000
END:STANDARD
END:VTIMEZONE
BEGIN:VEVENT
DTSTART;TZID=America/New_York:20260419T130000
DTEND;TZID=America/New_York:20260419T140000
DTSTAMP:20260422T094352
CREATED:20260311T205406Z
LAST-MODIFIED:20260330T134143Z
UID:10011509-1776603600-1776607200@parksevents.westchestercountyny.gov
SUMMARY:Garden Highlight Tour
DESCRIPTION:The sights and scents of the season flourish across the garden collections of Lasdon Public Gardens. Spend some time with Lasdon’s head gardener on a walking tour featuring highlights of the gardens and plant collections. The one hour tour is free and meets at the Memorial Garden Entrance.
URL:https://parksevents.westchestercountyny.gov/event/garden-highlight-tour/2026-04-19/
LOCATION:Lasdon Public Gardens\, 2610 Amawalk Road\, Route 35\, Katonah\, NY\, 10536\, United States
CATEGORIES:Nature & the Outdoors
ATTACH;FMTTYPE=image/jpeg:https://parksevents.westchestercountyny.gov/wp-content/uploads/2026/02/Rain-garden-in-Rosemont_Montgomery-County-Planning-Commission_CC-BY-SA-2.0_Flickr-1-e1723143247105.jpg
ORGANIZER;CN="Madeline Byrne":MAILTO:info@lasdonpark.org
END:VEVENT
BEGIN:VEVENT
DTSTART;TZID=America/New_York:20260416T100000
DTEND;TZID=America/New_York:20260416T113000
DTSTAMP:20260422T094352
CREATED:20260311T200015Z
LAST-MODIFIED:20260328T142459Z
UID:10011167-1776333600-1776339000@parksevents.westchestercountyny.gov
SUMMARY:Soft Landings: Playtime for Littles at Lasdon
DESCRIPTION:Let’s gather together to enjoy early growth in the gardens\, record our stories in a journal\, and learn about tools. We will experiment with seeds and roots\, build with sticks\, stems\, rocks and blocks\, and exercise our imagination. We always end with gratitude for forest friends and a cup of warm tea. Dress for the weather and bring a snack. Ages 18 mo. – 4 years \nregister & pay
URL:https://parksevents.westchestercountyny.gov/event/soft-landings-playtime-for-littles-at-lasdon/2026-04-16/
LOCATION:Lasdon Public Gardens\, 2610 Amawalk Road\, Route 35\, Katonah\, NY\, 10536\, United States
CATEGORIES:Nature & the Outdoors
ATTACH;FMTTYPE=image/jpeg:https://parksevents.westchestercountyny.gov/wp-content/uploads/2026/03/littles.jpg
ORGANIZER;CN="Deanna Novak":MAILTO:dbnn@westchestercountyny.gov
END:VEVENT
BEGIN:VEVENT
DTSTART;TZID=America/New_York:20260404T130000
DTEND;TZID=America/New_York:20260404T143000
DTSTAMP:20260422T094352
CREATED:20260311T205451Z
LAST-MODIFIED:20260311T205451Z
UID:10011786-1775307600-1775313000@parksevents.westchestercountyny.gov
SUMMARY:Making Cordage from Plants
DESCRIPTION:Gain a new appreciation for the plants all around us. Working with the dogbane plant\, we will learn to hand-process its fibers into strong cordage. Ages 12 and up.
URL:https://parksevents.westchestercountyny.gov/event/making-cordage-from-plants-2/
LOCATION:Cranberry Lake Preserve\, 1609 Old Orchard Street\, North White Plains\, NY\, 10604\, United States
CATEGORIES:Nature & the Outdoors
ATTACH;FMTTYPE=image/jpeg:https://parksevents.westchestercountyny.gov/wp-content/uploads/2026/02/Cordage.jpg
END:VEVENT
END:VCALENDAR