BEGIN:VCALENDAR
VERSION:2.0
PRODID:-//Westchester County Parks Events Calendar - ECPv6.15.20//NONSGML v1.0//EN
CALSCALE:GREGORIAN
METHOD:PUBLISH
X-WR-CALNAME:Westchester County Parks Events Calendar
X-ORIGINAL-URL:https://parksevents.westchestercountyny.gov
X-WR-CALDESC:Events for Westchester County Parks Events Calendar
REFRESH-INTERVAL;VALUE=DURATION:PT1H
X-Robots-Tag:noindex
X-PUBLISHED-TTL:PT1H
BEGIN:VTIMEZONE
TZID:America/New_York
BEGIN:DAYLIGHT
TZOFFSETFROM:-0500
TZOFFSETTO:-0400
TZNAME:EDT
DTSTART:20250309T070000
END:DAYLIGHT
BEGIN:STANDARD
TZOFFSETFROM:-0400
TZOFFSETTO:-0500
TZNAME:EST
DTSTART:20251102T060000
END:STANDARD
BEGIN:DAYLIGHT
TZOFFSETFROM:-0500
TZOFFSETTO:-0400
TZNAME:EDT
DTSTART:20260308T070000
END:DAYLIGHT
BEGIN:STANDARD
TZOFFSETFROM:-0400
TZOFFSETTO:-0500
TZNAME:EST
DTSTART:20261101T060000
END:STANDARD
BEGIN:DAYLIGHT
TZOFFSETFROM:-0500
TZOFFSETTO:-0400
TZNAME:EDT
DTSTART:20270314T070000
END:DAYLIGHT
BEGIN:STANDARD
TZOFFSETFROM:-0400
TZOFFSETTO:-0500
TZNAME:EST
DTSTART:20271107T060000
END:STANDARD
END:VTIMEZONE
BEGIN:VEVENT
DTSTART;TZID=America/New_York:20260425T110000
DTEND;TZID=America/New_York:20260425T140000
DTSTAMP:20260421T140216
CREATED:20260310T184721Z
LAST-MODIFIED:20260310T184727Z
UID:10012631-1777114800-1777125600@parksevents.westchestercountyny.gov
SUMMARY:Go Green Day!
DESCRIPTION:Celebrate 2026 Earthday! Turn off your electronics and spend the day outside giving back to Mother Earth! Help us plant native species and learn about the many ways you can nurture our shared environment.
URL:https://parksevents.westchestercountyny.gov/event/go-green-day/
LOCATION:Croton Point Park\, 1A Croton Point Avenue\, Croton-on-Hudson\, NY\, 10520\, United States
CATEGORIES:Nature & the Outdoors
ATTACH;FMTTYPE=image/jpeg:https://parksevents.westchestercountyny.gov/wp-content/uploads/2025/06/SE_LenoirPalisades.jpg
ORGANIZER;CN="John Phillips":MAILTO:jqpd@westchestercountyNY.gov
END:VEVENT
BEGIN:VEVENT
DTSTART;TZID=America/New_York:20260426T130000
DTEND;TZID=America/New_York:20260426T143000
DTSTAMP:20260421T140216
CREATED:20260310T144741Z
LAST-MODIFIED:20260310T144750Z
UID:10012601-1777208400-1777213800@parksevents.westchestercountyny.gov
SUMMARY:Wildflower Walk
DESCRIPTION:Join us on a hike through our trails to learn about our incredible wildflower species! From identification to ecology to traditional uses\, participants will leave this tour with a newfound knowledge and appreciation of wildflowers. Meet at reception center upon arrival. \nregister now
URL:https://parksevents.westchestercountyny.gov/event/wildflower-walk/
LOCATION:Alfred B. DelBello Muscoot Farm\, 51 NY-100\, Katonah\, NY\, 10536\, United States
CATEGORIES:Nature & the Outdoors
ATTACH;FMTTYPE=image/jpeg:https://parksevents.westchestercountyny.gov/wp-content/uploads/2025/06/SE_wildflowers.jpg
ORGANIZER;CN="Melinda Quintero":MAILTO:mqs5@westchestercountyny.gov
END:VEVENT
BEGIN:VEVENT
DTSTART;TZID=America/New_York:20260503T130000
DTEND;TZID=America/New_York:20260503T143000
DTSTAMP:20260421T140216
CREATED:20260308T220752Z
LAST-MODIFIED:20260310T144944Z
UID:10012604-1777813200-1777818600@parksevents.westchestercountyny.gov
SUMMARY:Vernal Pool Exploration
DESCRIPTION:Join us on a guided hike to our vernal pools! Vernal pools are spring ponds that are crucial habitats for plenty of different frog\, salamander\, and plant species. Learn all about these fascinating creatures and short-lived vernal pool ecosystems! Meet at reception center upon arrival. \nregister now
URL:https://parksevents.westchestercountyny.gov/event/vernal-pool-exploration-2/
LOCATION:Alfred B. DelBello Muscoot Farm\, 51 NY-100\, Katonah\, NY\, 10536\, United States
CATEGORIES:Nature & the Outdoors
ATTACH;FMTTYPE=image/jpeg:https://parksevents.westchestercountyny.gov/wp-content/uploads/2025/06/SE_frogpond.jpg
ORGANIZER;CN="Melinda Quintero":MAILTO:mqs5@westchestercountyny.gov
END:VEVENT
BEGIN:VEVENT
DTSTART;TZID=America/New_York:20260509T103000
DTEND;TZID=America/New_York:20260509T113000
DTSTAMP:20260421T140216
CREATED:20260308T214720Z
LAST-MODIFIED:20260308T214720Z
UID:10012289-1778322600-1778326200@parksevents.westchestercountyny.gov
SUMMARY:BUZZ ABOUT!
DESCRIPTION:Join Todd Patton\, master beekeeper\, for a visit to his Lenoir Preserve hives. Learn beekeeping basics and fascinating facts about these hard-working honey producers!
URL:https://parksevents.westchestercountyny.gov/event/buzz-about/
LOCATION:Croton Point Park\, 1A Croton Point Avenue\, Croton-on-Hudson\, NY\, 10520\, United States
CATEGORIES:Nature & the Outdoors
ATTACH;FMTTYPE=image/jpeg:https://parksevents.westchestercountyny.gov/wp-content/uploads/2025/06/SE_HoneyBees2.jpg
ORGANIZER;CN="John Phillips":MAILTO:jqpd@westchestercountyNY.gov
END:VEVENT
BEGIN:VEVENT
DTSTART;TZID=America/New_York:20260523T130000
DTEND;TZID=America/New_York:20260523T140000
DTSTAMP:20260421T140216
CREATED:20260306T192518Z
LAST-MODIFIED:20260306T192642Z
UID:10012568-1779541200-1779544800@parksevents.westchestercountyny.gov
SUMMARY:Plant Dissection
DESCRIPTION:Become a scientist as we use dissection kits to explore common plant parts and their systems and record our data. Recommended for all ages 10+.\n– $5 per person\n– Registration is required as space is limited \nregister now
URL:https://parksevents.westchestercountyny.gov/event/plant-dissection/
LOCATION:Hilltop Hanover Farm\, 1271 Hanover Street\, Yorktown Heights\, NY\, 10598\, United States
CATEGORIES:Nature & the Outdoors
ATTACH;FMTTYPE=image/jpeg:https://parksevents.westchestercountyny.gov/wp-content/uploads/2026/02/plant-disection.jpg
END:VEVENT
END:VCALENDAR