BEGIN:VCALENDAR
VERSION:2.0
PRODID:-//Westchester County Parks Events Calendar - ECPv6.15.20//NONSGML v1.0//EN
CALSCALE:GREGORIAN
METHOD:PUBLISH
X-ORIGINAL-URL:https://parksevents.westchestercountyny.gov
X-WR-CALDESC:Events for Westchester County Parks Events Calendar
REFRESH-INTERVAL;VALUE=DURATION:PT1H
X-Robots-Tag:noindex
X-PUBLISHED-TTL:PT1H
BEGIN:VTIMEZONE
TZID:America/New_York
BEGIN:DAYLIGHT
TZOFFSETFROM:-0500
TZOFFSETTO:-0400
TZNAME:EDT
DTSTART:20250309T070000
END:DAYLIGHT
BEGIN:STANDARD
TZOFFSETFROM:-0400
TZOFFSETTO:-0500
TZNAME:EST
DTSTART:20251102T060000
END:STANDARD
BEGIN:DAYLIGHT
TZOFFSETFROM:-0500
TZOFFSETTO:-0400
TZNAME:EDT
DTSTART:20260308T070000
END:DAYLIGHT
BEGIN:STANDARD
TZOFFSETFROM:-0400
TZOFFSETTO:-0500
TZNAME:EST
DTSTART:20261101T060000
END:STANDARD
BEGIN:DAYLIGHT
TZOFFSETFROM:-0500
TZOFFSETTO:-0400
TZNAME:EDT
DTSTART:20270314T070000
END:DAYLIGHT
BEGIN:STANDARD
TZOFFSETFROM:-0400
TZOFFSETTO:-0500
TZNAME:EST
DTSTART:20271107T060000
END:STANDARD
END:VTIMEZONE
BEGIN:VEVENT
DTSTART;TZID=America/New_York:20260413T080000
DTEND;TZID=America/New_York:20260413T100000
DTSTAMP:20260421T155255
CREATED:20260409T163900Z
LAST-MODIFIED:20260409T165843Z
UID:10014935-1776067200-1776074400@parksevents.westchestercountyny.gov
SUMMARY:Small Group Birding with Saw Mill River Audubon
DESCRIPTION:Join a guided bird walk. Free. \nREGISTER NOW\n 
URL:https://parksevents.westchestercountyny.gov/event/small-group-birding-with-saw-mill-river-audubon/
LOCATION:Croton Point Park\, 1 Croton Point Avenue\, Croton-On-Hudson\, NY\, 10520\, United States
CATEGORIES:Nature & the Outdoors
ATTACH;FMTTYPE=image/jpeg:https://parksevents.westchestercountyny.gov/wp-content/uploads/2025/06/SE_GroupBirdViewing.jpg
END:VEVENT
BEGIN:VEVENT
DTSTART;TZID=America/New_York:20260412T130000
DTEND;TZID=America/New_York:20260412T140000
DTSTAMP:20260421T155255
CREATED:20260310T144648Z
LAST-MODIFIED:20260310T144648Z
UID:10012598-1775998800-1776002400@parksevents.westchestercountyny.gov
SUMMARY:Pine Needle Soda Making
DESCRIPTION:Did you know that you can make homemade soda from pine needles? Come by and learn how to safely forage evergreen needles to create and take home a delicious and healthy homemade soda! Meet in activity building upon arrival. \nregister & pay
URL:https://parksevents.westchestercountyny.gov/event/pine-needle-soda-making/
LOCATION:Alfred B. DelBello Muscoot Farm\, 51 NY-100\, Katonah\, NY\, 10536\, United States
CATEGORIES:Nature & the Outdoors
ATTACH;FMTTYPE=image/jpeg:https://parksevents.westchestercountyny.gov/wp-content/uploads/2026/03/pine-needle-soda.jpg
ORGANIZER;CN="Melinda Quintero":MAILTO:mqs5@westchestercountyny.gov
END:VEVENT
BEGIN:VEVENT
DTSTART;TZID=America/New_York:20260411T130000
DTEND;TZID=America/New_York:20260411T143000
DTSTAMP:20260421T155255
CREATED:20260310T155440Z
LAST-MODIFIED:20260310T155440Z
UID:10012559-1775912400-1775917800@parksevents.westchestercountyny.gov
SUMMARY:Clothing Repair Workshop
DESCRIPTION:Join us this Earth Month to help reduce textile waste by learning how to mend your own clothing and linens! We will be focusing on reattaching zippers\, buttons\, patching up holes\, and more. Come with any old clothing\, blankets\, toys\, etc. you wish to repair. This workshop is recommended for everyone ages 8+. Pre-registration is suggested for this free class. \nregister now
URL:https://parksevents.westchestercountyny.gov/event/clothing-repair-workshop/
LOCATION:Hilltop Hanover Farm\, 1271 Hanover Street\, Yorktown Heights\, NY\, 10598\, United States
CATEGORIES:Arts, Culture & History,Workshops Education
ATTACH;FMTTYPE=image/jpeg:https://parksevents.westchestercountyny.gov/wp-content/uploads/2026/02/mend-clothing.jpg
END:VEVENT
BEGIN:VEVENT
DTSTART;TZID=America/New_York:20260401T090000
DTEND;TZID=America/New_York:20260401T110000
DTSTAMP:20260421T155255
CREATED:20260310T143549Z
LAST-MODIFIED:20260310T143649Z
UID:10012061-1775034000-1775041200@parksevents.westchestercountyny.gov
SUMMARY:Macroinvertebrate Hunt
DESCRIPTION:In this hands-on program\, you will venture to the pond or stream to search for macroinvertebrates—small aquatic beings that tell us a lot about the health of our water and ecosystem. Through this experience\, you will discover how the presence or absence of these critters can help us assess water quality and environmental well-being. This program is perfect for curious learners ages 8 & up who appreciate environmental conservation and do not mind getting a little wet or muddy while exploring nature. We will provide all the materials you need for this exploration\, but be sure to wear clothes that can get messy and\, if possible\, waterproof boots to stay comfortable during your aquatic adventure! \nregister & pay
URL:https://parksevents.westchestercountyny.gov/event/macroinvertebrate-hunt/
LOCATION:Alfred B. DelBello Muscoot Farm\, 51 NY-100\, Katonah\, NY\, 10536\, United States
CATEGORIES:Nature & the Outdoors
ATTACH;FMTTYPE=image/jpeg:https://parksevents.westchestercountyny.gov/wp-content/uploads/2026/02/Macroinvertebrate-e1773153393758.jpg
END:VEVENT
END:VCALENDAR