BEGIN:VCALENDAR
VERSION:2.0
PRODID:-//Westchester County Parks Events Calendar - ECPv6.15.20//NONSGML v1.0//EN
CALSCALE:GREGORIAN
METHOD:PUBLISH
X-WR-CALNAME:Westchester County Parks Events Calendar
X-ORIGINAL-URL:https://parksevents.westchestercountyny.gov
X-WR-CALDESC:Events for Westchester County Parks Events Calendar
REFRESH-INTERVAL;VALUE=DURATION:PT1H
X-Robots-Tag:noindex
X-PUBLISHED-TTL:PT1H
BEGIN:VTIMEZONE
TZID:America/New_York
BEGIN:DAYLIGHT
TZOFFSETFROM:-0500
TZOFFSETTO:-0400
TZNAME:EDT
DTSTART:20250309T070000
END:DAYLIGHT
BEGIN:STANDARD
TZOFFSETFROM:-0400
TZOFFSETTO:-0500
TZNAME:EST
DTSTART:20251102T060000
END:STANDARD
BEGIN:DAYLIGHT
TZOFFSETFROM:-0500
TZOFFSETTO:-0400
TZNAME:EDT
DTSTART:20260308T070000
END:DAYLIGHT
BEGIN:STANDARD
TZOFFSETFROM:-0400
TZOFFSETTO:-0500
TZNAME:EST
DTSTART:20261101T060000
END:STANDARD
BEGIN:DAYLIGHT
TZOFFSETFROM:-0500
TZOFFSETTO:-0400
TZNAME:EDT
DTSTART:20270314T070000
END:DAYLIGHT
BEGIN:STANDARD
TZOFFSETFROM:-0400
TZOFFSETTO:-0500
TZNAME:EST
DTSTART:20271107T060000
END:STANDARD
END:VTIMEZONE
BEGIN:VEVENT
DTSTART;TZID=America/New_York:20260425T110000
DTEND;TZID=America/New_York:20260425T123000
DTSTAMP:20260421T131500
CREATED:20260310T185000Z
LAST-MODIFIED:20260310T185030Z
UID:10012562-1777114800-1777120200@parksevents.westchestercountyny.gov
SUMMARY:Kitchen Knacks: Homemade Kitchen Cleaners
DESCRIPTION:In this edition of Kitchen Knacks\, we will be making our own kitchen cleaners\, using ingredients from the pantry! Learn about the different uses of cleaners and leave with a few recipes to make more at home! \nRecommended for adults and children ages 12+; pre-registration required. \nregister & pay
URL:https://parksevents.westchestercountyny.gov/event/kitchen-knacks-homemade-kitchen-cleaners/
LOCATION:Hilltop Hanover Farm\, 1271 Hanover Street\, Yorktown Heights\, NY\, 10598\, United States
CATEGORIES:Arts, Culture & History,Workshops Education
ATTACH;FMTTYPE=image/jpeg:https://parksevents.westchestercountyny.gov/wp-content/uploads/2025/06/SE_hilltopKitchen.jpg
END:VEVENT
BEGIN:VEVENT
DTSTART;TZID=America/New_York:20260509T130000
DTEND;TZID=America/New_York:20260509T143000
DTSTAMP:20260421T131500
CREATED:20260306T205658Z
LAST-MODIFIED:20260306T211725Z
UID:10012565-1778331600-1778337000@parksevents.westchestercountyny.gov
SUMMARY:Pyrography: Beginner’s Techniques
DESCRIPTION:Learn the basics and take home your own wood burning art piece in this introductory pyrography class. No experience is necessary for this workshop. Available for adults and children ages 10+; $15 /person; registration required. \nregister now
URL:https://parksevents.westchestercountyny.gov/event/pyrography-beginners-techniques/
LOCATION:Hilltop Hanover Farm\, 1271 Hanover Street\, Yorktown Heights\, NY\, 10598\, United States
CATEGORIES:Arts, Culture & History,Workshops Education
ATTACH;FMTTYPE=image/jpeg:https://parksevents.westchestercountyny.gov/wp-content/uploads/2026/02/pyrography.jpg
END:VEVENT
BEGIN:VEVENT
DTSTART;TZID=America/New_York:20260530T110000
DTEND;TZID=America/New_York:20260530T123000
DTSTAMP:20260421T131500
CREATED:20260306T191253Z
LAST-MODIFIED:20260306T191253Z
UID:10011572-1780138800-1780144200@parksevents.westchestercountyny.gov
SUMMARY:We Luv Dinosaurs!
DESCRIPTION:Calling dinosaur lovers to celebrate National Dinosaur Day by baking Dino Sugar cookies\, making Lasdon’s unique Paleo-pouch for holding fossil treasures and taking a special hands-on tour of the Dino trail that includes touching real dino poo! 6 children max. Ages 5 years old and up. Registration required at lasdonpublicgardens.org. Registration ends May 29. Fee: $10.
URL:https://parksevents.westchestercountyny.gov/event/we-luv-dinosaurs/
LOCATION:Lasdon Public Gardens\, 2610 Amawalk Road\, Route 35\, Katonah\, NY\, 10536\, United States
CATEGORIES:Arts, Culture & History
ATTACH;FMTTYPE=image/jpeg:https://parksevents.westchestercountyny.gov/wp-content/uploads/2025/06/SE_dinomite.jpg
END:VEVENT
BEGIN:VEVENT
DTSTART;TZID=America/New_York:20260530T110000
DTEND;TZID=America/New_York:20260530T150000
DTSTAMP:20260421T131500
CREATED:20260415T152422Z
LAST-MODIFIED:20260415T152556Z
UID:10014942-1780138800-1780153200@parksevents.westchestercountyny.gov
SUMMARY:Vendor Village
DESCRIPTION:Featuring: Local Vendors\, New Merchandise\, Live Music\, Food Trucks\, Free Admission and Parking. \nVendor Inquiries please E-mail: 914popups@gmail.com
URL:https://parksevents.westchestercountyny.gov/event/vendor-village/
CATEGORIES:Special Events
ATTACH;FMTTYPE=image/jpeg:https://parksevents.westchestercountyny.gov/wp-content/uploads/2026/04/Vendor-Village_550x550-e1776357941184.jpg
END:VEVENT
BEGIN:VEVENT
DTSTART;TZID=America/New_York:20260627T110000
DTEND;TZID=America/New_York:20260627T120000
DTSTAMP:20260421T131500
CREATED:20260306T190459Z
LAST-MODIFIED:20260306T190600Z
UID:10011581-1782558000-1782561600@parksevents.westchestercountyny.gov
SUMMARY:Young Childrens Story and Craft
DESCRIPTION:Children will participate in a story about best friends Lonnie the Lasdon Bunnie and Chippie the Chipmunk. They will go on a scavenger hunt looking for them and make a special seasonal craft. 6 children max. Ages 3 years old to 5 years old. \nRegistration required at lasdonpark.org. Registration ends June 26. Fee: $5:00.
URL:https://parksevents.westchestercountyny.gov/event/young-childrens-story-and-craft-3/
LOCATION:Lasdon Public Gardens\, 2610 Amawalk Road\, Route 35\, Katonah\, NY\, 10536\, United States
CATEGORIES:Arts, Culture & History
ATTACH;FMTTYPE=image/jpeg:https://parksevents.westchestercountyny.gov/wp-content/uploads/2025/06/SE_crafts.jpg
END:VEVENT
END:VCALENDAR