BEGIN:VCALENDAR
VERSION:2.0
PRODID:-//Westchester County Parks Events Calendar - ECPv6.15.20//NONSGML v1.0//EN
CALSCALE:GREGORIAN
METHOD:PUBLISH
X-ORIGINAL-URL:https://parksevents.westchestercountyny.gov
X-WR-CALDESC:Events for Westchester County Parks Events Calendar
REFRESH-INTERVAL;VALUE=DURATION:PT1H
X-Robots-Tag:noindex
X-PUBLISHED-TTL:PT1H
BEGIN:VTIMEZONE
TZID:America/New_York
BEGIN:DAYLIGHT
TZOFFSETFROM:-0500
TZOFFSETTO:-0400
TZNAME:EDT
DTSTART:20250309T070000
END:DAYLIGHT
BEGIN:STANDARD
TZOFFSETFROM:-0400
TZOFFSETTO:-0500
TZNAME:EST
DTSTART:20251102T060000
END:STANDARD
BEGIN:DAYLIGHT
TZOFFSETFROM:-0500
TZOFFSETTO:-0400
TZNAME:EDT
DTSTART:20260308T070000
END:DAYLIGHT
BEGIN:STANDARD
TZOFFSETFROM:-0400
TZOFFSETTO:-0500
TZNAME:EST
DTSTART:20261101T060000
END:STANDARD
BEGIN:DAYLIGHT
TZOFFSETFROM:-0500
TZOFFSETTO:-0400
TZNAME:EDT
DTSTART:20270314T070000
END:DAYLIGHT
BEGIN:STANDARD
TZOFFSETFROM:-0400
TZOFFSETTO:-0500
TZNAME:EST
DTSTART:20271107T060000
END:STANDARD
END:VTIMEZONE
BEGIN:VEVENT
DTSTART;TZID=America/New_York:20260419T130000
DTEND;TZID=America/New_York:20260419T150000
DTSTAMP:20260421T132951
CREATED:20260311T191038Z
LAST-MODIFIED:20260311T191119Z
UID:10012874-1776603600-1776610800@parksevents.westchestercountyny.gov
SUMMARY:Natural Dyes Workshop
DESCRIPTION:Learn the basics of creating natural dyes and help process wool to make a variety of beautiful colors! Pre-registration required; \nregister & pay
URL:https://parksevents.westchestercountyny.gov/event/natural-dyes-workshop-2/
LOCATION:Hilltop Hanover Farm\, 1271 Hanover Street\, Yorktown Heights\, NY\, 10598\, United States
CATEGORIES:Arts, Culture & History,Nature & the Outdoors,Workshops Education
ATTACH;FMTTYPE=image/jpeg:https://parksevents.westchestercountyny.gov/wp-content/uploads/2025/12/natural-dyes.jpg
END:VEVENT
BEGIN:VEVENT
DTSTART;TZID=America/New_York:20260418T110000
DTEND;TZID=America/New_York:20260418T123000
DTSTAMP:20260421T132951
CREATED:20260310T152554Z
LAST-MODIFIED:20260310T152554Z
UID:10011569-1776510000-1776515400@parksevents.westchestercountyny.gov
SUMMARY:Spring Bling Fairy Houses
DESCRIPTION:Celebrate spring by decorating a whimsical fairy house with bling and seasonal stickers. Children ages 5 years old and up. Registration required at lasdonpublicgardens.org. Registration ends April 17. 6 children max. Fee: $5:00. \nregister & pay
URL:https://parksevents.westchestercountyny.gov/event/spring-bling-fairy-houses/
LOCATION:Lasdon Public Gardens\, 2610 Amawalk Road\, Route 35\, Katonah\, NY\, 10536\, United States
CATEGORIES:Arts, Culture & History
ATTACH;FMTTYPE=image/jpeg:https://parksevents.westchestercountyny.gov/wp-content/uploads/2025/06/SE_fairyhouse.jpg
END:VEVENT
BEGIN:VEVENT
DTSTART;TZID=America/New_York:20260411T130000
DTEND;TZID=America/New_York:20260411T143000
DTSTAMP:20260421T132951
CREATED:20260310T155440Z
LAST-MODIFIED:20260310T155440Z
UID:10012559-1775912400-1775917800@parksevents.westchestercountyny.gov
SUMMARY:Clothing Repair Workshop
DESCRIPTION:Join us this Earth Month to help reduce textile waste by learning how to mend your own clothing and linens! We will be focusing on reattaching zippers\, buttons\, patching up holes\, and more. Come with any old clothing\, blankets\, toys\, etc. you wish to repair. This workshop is recommended for everyone ages 8+. Pre-registration is suggested for this free class. \nregister now
URL:https://parksevents.westchestercountyny.gov/event/clothing-repair-workshop/
LOCATION:Hilltop Hanover Farm\, 1271 Hanover Street\, Yorktown Heights\, NY\, 10598\, United States
CATEGORIES:Arts, Culture & History,Workshops Education
ATTACH;FMTTYPE=image/jpeg:https://parksevents.westchestercountyny.gov/wp-content/uploads/2026/02/mend-clothing.jpg
END:VEVENT
BEGIN:VEVENT
DTSTART;TZID=America/New_York:20260404T130000
DTEND;TZID=America/New_York:20260404T143000
DTSTAMP:20260421T132951
CREATED:20260311T205451Z
LAST-MODIFIED:20260311T205451Z
UID:10011786-1775307600-1775313000@parksevents.westchestercountyny.gov
SUMMARY:Making Cordage from Plants
DESCRIPTION:Gain a new appreciation for the plants all around us. Working with the dogbane plant\, we will learn to hand-process its fibers into strong cordage. Ages 12 and up.
URL:https://parksevents.westchestercountyny.gov/event/making-cordage-from-plants-2/
LOCATION:Cranberry Lake Preserve\, 1609 Old Orchard Street\, North White Plains\, NY\, 10604\, United States
CATEGORIES:Nature & the Outdoors
ATTACH;FMTTYPE=image/jpeg:https://parksevents.westchestercountyny.gov/wp-content/uploads/2026/02/Cordage.jpg
END:VEVENT
END:VCALENDAR