BEGIN:VCALENDAR
VERSION:2.0
PRODID:-//Westchester County Parks Events Calendar - ECPv6.15.20//NONSGML v1.0//EN
CALSCALE:GREGORIAN
METHOD:PUBLISH
X-WR-CALNAME:Westchester County Parks Events Calendar
X-ORIGINAL-URL:https://parksevents.westchestercountyny.gov
X-WR-CALDESC:Events for Westchester County Parks Events Calendar
REFRESH-INTERVAL;VALUE=DURATION:PT1H
X-Robots-Tag:noindex
X-PUBLISHED-TTL:PT1H
BEGIN:VTIMEZONE
TZID:America/New_York
BEGIN:DAYLIGHT
TZOFFSETFROM:-0500
TZOFFSETTO:-0400
TZNAME:EDT
DTSTART:20250309T070000
END:DAYLIGHT
BEGIN:STANDARD
TZOFFSETFROM:-0400
TZOFFSETTO:-0500
TZNAME:EST
DTSTART:20251102T060000
END:STANDARD
BEGIN:DAYLIGHT
TZOFFSETFROM:-0500
TZOFFSETTO:-0400
TZNAME:EDT
DTSTART:20260308T070000
END:DAYLIGHT
BEGIN:STANDARD
TZOFFSETFROM:-0400
TZOFFSETTO:-0500
TZNAME:EST
DTSTART:20261101T060000
END:STANDARD
BEGIN:DAYLIGHT
TZOFFSETFROM:-0500
TZOFFSETTO:-0400
TZNAME:EDT
DTSTART:20270314T070000
END:DAYLIGHT
BEGIN:STANDARD
TZOFFSETFROM:-0400
TZOFFSETTO:-0500
TZNAME:EST
DTSTART:20271107T060000
END:STANDARD
END:VTIMEZONE
BEGIN:VEVENT
DTSTART;TZID=America/New_York:20260616T183000
DTEND;TZID=America/New_York:20260616T193000
DTSTAMP:20260419T235342
CREATED:20260304T212052Z
LAST-MODIFIED:20260304T212848Z
UID:10008329-1781634600-1781638200@parksevents.westchestercountyny.gov
SUMMARY:Zumba Classes
DESCRIPTION:Get moving this summer at Kensico Dam Plaza with free weekly Zumba classes. \nClasses held on Tuesdays starting June 16 through Sept. 8 from 6:30 p.m. – 7:30 p.m. * \n*Please note: September 1 & 8 classes are 6 p.m. – 7 p.m.
URL:https://parksevents.westchestercountyny.gov/event/zumba-classes/2026-06-16/
LOCATION:Kensico Dam Plaza\, 1 Bronx River Parkway\, Valhalla\, NY\, 10595\, United States
CATEGORIES:Recreation & Activities,Special Events
ATTACH;FMTTYPE=image/jpeg:https://parksevents.westchestercountyny.gov/wp-content/uploads/2025/06/SE_zumba2.jpg
END:VEVENT
BEGIN:VEVENT
DTSTART;TZID=America/New_York:20260623T183000
DTEND;TZID=America/New_York:20260623T193000
DTSTAMP:20260419T235342
CREATED:20260304T212052Z
LAST-MODIFIED:20260304T212848Z
UID:10012844-1782239400-1782243000@parksevents.westchestercountyny.gov
SUMMARY:Zumba Classes
DESCRIPTION:Get moving this summer at Kensico Dam Plaza with free weekly Zumba classes. \nClasses held on Tuesdays starting June 16 through Sept. 8 from 6:30 p.m. – 7:30 p.m. * \n*Please note: September 1 & 8 classes are 6 p.m. – 7 p.m.
URL:https://parksevents.westchestercountyny.gov/event/zumba-classes/2026-06-23/
LOCATION:Kensico Dam Plaza\, 1 Bronx River Parkway\, Valhalla\, NY\, 10595\, United States
CATEGORIES:Recreation & Activities,Special Events
ATTACH;FMTTYPE=image/jpeg:https://parksevents.westchestercountyny.gov/wp-content/uploads/2025/06/SE_zumba2.jpg
END:VEVENT
BEGIN:VEVENT
DTSTART;TZID=America/New_York:20260630T183000
DTEND;TZID=America/New_York:20260630T193000
DTSTAMP:20260419T235342
CREATED:20260304T212052Z
LAST-MODIFIED:20260304T212848Z
UID:10012847-1782844200-1782847800@parksevents.westchestercountyny.gov
SUMMARY:Zumba Classes
DESCRIPTION:Get moving this summer at Kensico Dam Plaza with free weekly Zumba classes. \nClasses held on Tuesdays starting June 16 through Sept. 8 from 6:30 p.m. – 7:30 p.m. * \n*Please note: September 1 & 8 classes are 6 p.m. – 7 p.m.
URL:https://parksevents.westchestercountyny.gov/event/zumba-classes/2026-06-30/
LOCATION:Kensico Dam Plaza\, 1 Bronx River Parkway\, Valhalla\, NY\, 10595\, United States
CATEGORIES:Recreation & Activities,Special Events
ATTACH;FMTTYPE=image/jpeg:https://parksevents.westchestercountyny.gov/wp-content/uploads/2025/06/SE_zumba2.jpg
END:VEVENT
BEGIN:VEVENT
DTSTART;TZID=America/New_York:20260707T183000
DTEND;TZID=America/New_York:20260707T193000
DTSTAMP:20260419T235342
CREATED:20260304T212052Z
LAST-MODIFIED:20260304T212848Z
UID:10012850-1783449000-1783452600@parksevents.westchestercountyny.gov
SUMMARY:Zumba Classes
DESCRIPTION:Get moving this summer at Kensico Dam Plaza with free weekly Zumba classes. \nClasses held on Tuesdays starting June 16 through Sept. 8 from 6:30 p.m. – 7:30 p.m. * \n*Please note: September 1 & 8 classes are 6 p.m. – 7 p.m.
URL:https://parksevents.westchestercountyny.gov/event/zumba-classes/2026-07-07/
LOCATION:Kensico Dam Plaza\, 1 Bronx River Parkway\, Valhalla\, NY\, 10595\, United States
CATEGORIES:Recreation & Activities,Special Events
ATTACH;FMTTYPE=image/jpeg:https://parksevents.westchestercountyny.gov/wp-content/uploads/2025/06/SE_zumba2.jpg
END:VEVENT
BEGIN:VEVENT
DTSTART;TZID=America/New_York:20260714T183000
DTEND;TZID=America/New_York:20260714T193000
DTSTAMP:20260419T235342
CREATED:20260304T212052Z
LAST-MODIFIED:20260304T212848Z
UID:10012853-1784053800-1784057400@parksevents.westchestercountyny.gov
SUMMARY:Zumba Classes
DESCRIPTION:Get moving this summer at Kensico Dam Plaza with free weekly Zumba classes. \nClasses held on Tuesdays starting June 16 through Sept. 8 from 6:30 p.m. – 7:30 p.m. * \n*Please note: September 1 & 8 classes are 6 p.m. – 7 p.m.
URL:https://parksevents.westchestercountyny.gov/event/zumba-classes/2026-07-14/
LOCATION:Kensico Dam Plaza\, 1 Bronx River Parkway\, Valhalla\, NY\, 10595\, United States
CATEGORIES:Recreation & Activities,Special Events
ATTACH;FMTTYPE=image/jpeg:https://parksevents.westchestercountyny.gov/wp-content/uploads/2025/06/SE_zumba2.jpg
END:VEVENT
BEGIN:VEVENT
DTSTART;TZID=America/New_York:20260721T183000
DTEND;TZID=America/New_York:20260721T193000
DTSTAMP:20260419T235342
CREATED:20260304T212052Z
LAST-MODIFIED:20260304T212848Z
UID:10012856-1784658600-1784662200@parksevents.westchestercountyny.gov
SUMMARY:Zumba Classes
DESCRIPTION:Get moving this summer at Kensico Dam Plaza with free weekly Zumba classes. \nClasses held on Tuesdays starting June 16 through Sept. 8 from 6:30 p.m. – 7:30 p.m. * \n*Please note: September 1 & 8 classes are 6 p.m. – 7 p.m.
URL:https://parksevents.westchestercountyny.gov/event/zumba-classes/2026-07-21/
LOCATION:Kensico Dam Plaza\, 1 Bronx River Parkway\, Valhalla\, NY\, 10595\, United States
CATEGORIES:Recreation & Activities,Special Events
ATTACH;FMTTYPE=image/jpeg:https://parksevents.westchestercountyny.gov/wp-content/uploads/2025/06/SE_zumba2.jpg
END:VEVENT
BEGIN:VEVENT
DTSTART;TZID=America/New_York:20260728T183000
DTEND;TZID=America/New_York:20260728T193000
DTSTAMP:20260419T235342
CREATED:20260304T212052Z
LAST-MODIFIED:20260304T212848Z
UID:10012859-1785263400-1785267000@parksevents.westchestercountyny.gov
SUMMARY:Zumba Classes
DESCRIPTION:Get moving this summer at Kensico Dam Plaza with free weekly Zumba classes. \nClasses held on Tuesdays starting June 16 through Sept. 8 from 6:30 p.m. – 7:30 p.m. * \n*Please note: September 1 & 8 classes are 6 p.m. – 7 p.m.
URL:https://parksevents.westchestercountyny.gov/event/zumba-classes/2026-07-28/
LOCATION:Kensico Dam Plaza\, 1 Bronx River Parkway\, Valhalla\, NY\, 10595\, United States
CATEGORIES:Recreation & Activities,Special Events
ATTACH;FMTTYPE=image/jpeg:https://parksevents.westchestercountyny.gov/wp-content/uploads/2025/06/SE_zumba2.jpg
END:VEVENT
BEGIN:VEVENT
DTSTART;TZID=America/New_York:20260804T183000
DTEND;TZID=America/New_York:20260804T193000
DTSTAMP:20260419T235342
CREATED:20260304T212052Z
LAST-MODIFIED:20260304T212848Z
UID:10012862-1785868200-1785871800@parksevents.westchestercountyny.gov
SUMMARY:Zumba Classes
DESCRIPTION:Get moving this summer at Kensico Dam Plaza with free weekly Zumba classes. \nClasses held on Tuesdays starting June 16 through Sept. 8 from 6:30 p.m. – 7:30 p.m. * \n*Please note: September 1 & 8 classes are 6 p.m. – 7 p.m.
URL:https://parksevents.westchestercountyny.gov/event/zumba-classes/2026-08-04/
LOCATION:Kensico Dam Plaza\, 1 Bronx River Parkway\, Valhalla\, NY\, 10595\, United States
CATEGORIES:Recreation & Activities,Special Events
ATTACH;FMTTYPE=image/jpeg:https://parksevents.westchestercountyny.gov/wp-content/uploads/2025/06/SE_zumba2.jpg
END:VEVENT
BEGIN:VEVENT
DTSTART;TZID=America/New_York:20260811T183000
DTEND;TZID=America/New_York:20260811T193000
DTSTAMP:20260419T235342
CREATED:20260304T212052Z
LAST-MODIFIED:20260304T212848Z
UID:10012865-1786473000-1786476600@parksevents.westchestercountyny.gov
SUMMARY:Zumba Classes
DESCRIPTION:Get moving this summer at Kensico Dam Plaza with free weekly Zumba classes. \nClasses held on Tuesdays starting June 16 through Sept. 8 from 6:30 p.m. – 7:30 p.m. * \n*Please note: September 1 & 8 classes are 6 p.m. – 7 p.m.
URL:https://parksevents.westchestercountyny.gov/event/zumba-classes/2026-08-11/
LOCATION:Kensico Dam Plaza\, 1 Bronx River Parkway\, Valhalla\, NY\, 10595\, United States
CATEGORIES:Recreation & Activities,Special Events
ATTACH;FMTTYPE=image/jpeg:https://parksevents.westchestercountyny.gov/wp-content/uploads/2025/06/SE_zumba2.jpg
END:VEVENT
BEGIN:VEVENT
DTSTART;TZID=America/New_York:20260818T183000
DTEND;TZID=America/New_York:20260818T193000
DTSTAMP:20260419T235342
CREATED:20260304T212052Z
LAST-MODIFIED:20260304T212848Z
UID:10012868-1787077800-1787081400@parksevents.westchestercountyny.gov
SUMMARY:Zumba Classes
DESCRIPTION:Get moving this summer at Kensico Dam Plaza with free weekly Zumba classes. \nClasses held on Tuesdays starting June 16 through Sept. 8 from 6:30 p.m. – 7:30 p.m. * \n*Please note: September 1 & 8 classes are 6 p.m. – 7 p.m.
URL:https://parksevents.westchestercountyny.gov/event/zumba-classes/2026-08-18/
LOCATION:Kensico Dam Plaza\, 1 Bronx River Parkway\, Valhalla\, NY\, 10595\, United States
CATEGORIES:Recreation & Activities,Special Events
ATTACH;FMTTYPE=image/jpeg:https://parksevents.westchestercountyny.gov/wp-content/uploads/2025/06/SE_zumba2.jpg
END:VEVENT
BEGIN:VEVENT
DTSTART;TZID=America/New_York:20260825T183000
DTEND;TZID=America/New_York:20260825T193000
DTSTAMP:20260419T235342
CREATED:20260304T212052Z
LAST-MODIFIED:20260304T212848Z
UID:10012871-1787682600-1787686200@parksevents.westchestercountyny.gov
SUMMARY:Zumba Classes
DESCRIPTION:Get moving this summer at Kensico Dam Plaza with free weekly Zumba classes. \nClasses held on Tuesdays starting June 16 through Sept. 8 from 6:30 p.m. – 7:30 p.m. * \n*Please note: September 1 & 8 classes are 6 p.m. – 7 p.m.
URL:https://parksevents.westchestercountyny.gov/event/zumba-classes/2026-08-25/
LOCATION:Kensico Dam Plaza\, 1 Bronx River Parkway\, Valhalla\, NY\, 10595\, United States
CATEGORIES:Recreation & Activities,Special Events
ATTACH;FMTTYPE=image/jpeg:https://parksevents.westchestercountyny.gov/wp-content/uploads/2025/06/SE_zumba2.jpg
END:VEVENT
BEGIN:VEVENT
DTSTART;TZID=America/New_York:20260901T180000
DTEND;TZID=America/New_York:20260901T190000
DTSTAMP:20260419T235342
CREATED:20260304T212052Z
LAST-MODIFIED:20260304T212848Z
UID:10012682-1788285600-1788289200@parksevents.westchestercountyny.gov
SUMMARY:Zumba Classes
DESCRIPTION:Get moving this summer at Kensico Dam Plaza with free weekly Zumba classes. \nClasses held on Tuesdays starting June 16 through Sept. 8 from 6:30 p.m. – 7:30 p.m. * \n*Please note: September 1 & 8 classes are 6 p.m. – 7 p.m.
URL:https://parksevents.westchestercountyny.gov/event/zumba-classes/2026-09-01/
LOCATION:Kensico Dam Plaza\, 1 Bronx River Parkway\, Valhalla\, NY\, 10595\, United States
CATEGORIES:Recreation & Activities,Special Events
ATTACH;FMTTYPE=image/jpeg:https://parksevents.westchestercountyny.gov/wp-content/uploads/2025/06/SE_zumba2.jpg
END:VEVENT
BEGIN:VEVENT
DTSTART;TZID=America/New_York:20260908T180000
DTEND;TZID=America/New_York:20260908T190000
DTSTAMP:20260419T235342
CREATED:20260304T212052Z
LAST-MODIFIED:20260304T212848Z
UID:10012688-1788890400-1788894000@parksevents.westchestercountyny.gov
SUMMARY:Zumba Classes
DESCRIPTION:Get moving this summer at Kensico Dam Plaza with free weekly Zumba classes. \nClasses held on Tuesdays starting June 16 through Sept. 8 from 6:30 p.m. – 7:30 p.m. * \n*Please note: September 1 & 8 classes are 6 p.m. – 7 p.m.
URL:https://parksevents.westchestercountyny.gov/event/zumba-classes/2026-09-08/
LOCATION:Kensico Dam Plaza\, 1 Bronx River Parkway\, Valhalla\, NY\, 10595\, United States
CATEGORIES:Recreation & Activities,Special Events
ATTACH;FMTTYPE=image/jpeg:https://parksevents.westchestercountyny.gov/wp-content/uploads/2025/06/SE_zumba2.jpg
END:VEVENT
END:VCALENDAR