BEGIN:VCALENDAR
VERSION:2.0
PRODID:-//Westchester County Parks Events Calendar - ECPv6.15.20//NONSGML v1.0//EN
CALSCALE:GREGORIAN
METHOD:PUBLISH
X-WR-CALNAME:Westchester County Parks Events Calendar
X-ORIGINAL-URL:https://parksevents.westchestercountyny.gov
X-WR-CALDESC:Events for Westchester County Parks Events Calendar
REFRESH-INTERVAL;VALUE=DURATION:PT1H
X-Robots-Tag:noindex
X-PUBLISHED-TTL:PT1H
BEGIN:VTIMEZONE
TZID:America/New_York
BEGIN:DAYLIGHT
TZOFFSETFROM:-0500
TZOFFSETTO:-0400
TZNAME:EDT
DTSTART:20250309T070000
END:DAYLIGHT
BEGIN:STANDARD
TZOFFSETFROM:-0400
TZOFFSETTO:-0500
TZNAME:EST
DTSTART:20251102T060000
END:STANDARD
BEGIN:DAYLIGHT
TZOFFSETFROM:-0500
TZOFFSETTO:-0400
TZNAME:EDT
DTSTART:20260308T070000
END:DAYLIGHT
BEGIN:STANDARD
TZOFFSETFROM:-0400
TZOFFSETTO:-0500
TZNAME:EST
DTSTART:20261101T060000
END:STANDARD
BEGIN:DAYLIGHT
TZOFFSETFROM:-0500
TZOFFSETTO:-0400
TZNAME:EDT
DTSTART:20270314T070000
END:DAYLIGHT
BEGIN:STANDARD
TZOFFSETFROM:-0400
TZOFFSETTO:-0500
TZNAME:EST
DTSTART:20271107T060000
END:STANDARD
END:VTIMEZONE
BEGIN:VEVENT
DTSTART;TZID=America/New_York:20260506T073000
DTEND;TZID=America/New_York:20260506T093000
DTSTAMP:20260419T204049
CREATED:20260304T192923Z
LAST-MODIFIED:20260401T123707Z
UID:10014870-1778052600-1778059800@parksevents.westchestercountyny.gov
SUMMARY:First Wednesday’s Bird Walk
DESCRIPTION:Join the Bedford Audubon Society at Hilltop for the first Wednesday of each month! Birders of all levels are welcome on this exploration of the farm through various habitats to catch a view of our winged friends.
URL:https://parksevents.westchestercountyny.gov/event/first-wednesdays-bird-walk-3/2026-05-06/
LOCATION:Hilltop Hanover Farm\, 1271 Hanover Street\, Yorktown Heights\, NY\, 10598\, United States
CATEGORIES:Nature & the Outdoors
ATTACH;FMTTYPE=image/jpeg:https://parksevents.westchestercountyny.gov/wp-content/uploads/2025/06/bird-migration.jpg
END:VEVENT
BEGIN:VEVENT
DTSTART;TZID=America/New_York:20260603T073000
DTEND;TZID=America/New_York:20260603T093000
DTSTAMP:20260419T204049
CREATED:20260304T192923Z
LAST-MODIFIED:20260401T123707Z
UID:10014873-1780471800-1780479000@parksevents.westchestercountyny.gov
SUMMARY:First Wednesday’s Bird Walk
DESCRIPTION:Join the Bedford Audubon Society at Hilltop for the first Wednesday of each month! Birders of all levels are welcome on this exploration of the farm through various habitats to catch a view of our winged friends.
URL:https://parksevents.westchestercountyny.gov/event/first-wednesdays-bird-walk-3/2026-06-03/
LOCATION:Hilltop Hanover Farm\, 1271 Hanover Street\, Yorktown Heights\, NY\, 10598\, United States
CATEGORIES:Nature & the Outdoors
ATTACH;FMTTYPE=image/jpeg:https://parksevents.westchestercountyny.gov/wp-content/uploads/2025/06/bird-migration.jpg
END:VEVENT
BEGIN:VEVENT
DTSTART;TZID=America/New_York:20260701T073000
DTEND;TZID=America/New_York:20260701T093000
DTSTAMP:20260419T204049
CREATED:20260304T192923Z
LAST-MODIFIED:20260401T123707Z
UID:10014876-1782891000-1782898200@parksevents.westchestercountyny.gov
SUMMARY:First Wednesday’s Bird Walk
DESCRIPTION:Join the Bedford Audubon Society at Hilltop for the first Wednesday of each month! Birders of all levels are welcome on this exploration of the farm through various habitats to catch a view of our winged friends.
URL:https://parksevents.westchestercountyny.gov/event/first-wednesdays-bird-walk-3/2026-07-01/
LOCATION:Hilltop Hanover Farm\, 1271 Hanover Street\, Yorktown Heights\, NY\, 10598\, United States
CATEGORIES:Nature & the Outdoors
ATTACH;FMTTYPE=image/jpeg:https://parksevents.westchestercountyny.gov/wp-content/uploads/2025/06/bird-migration.jpg
END:VEVENT
BEGIN:VEVENT
DTSTART;TZID=America/New_York:20260805T073000
DTEND;TZID=America/New_York:20260805T093000
DTSTAMP:20260419T204049
CREATED:20260304T192923Z
LAST-MODIFIED:20260401T123707Z
UID:10014879-1785915000-1785922200@parksevents.westchestercountyny.gov
SUMMARY:First Wednesday’s Bird Walk
DESCRIPTION:Join the Bedford Audubon Society at Hilltop for the first Wednesday of each month! Birders of all levels are welcome on this exploration of the farm through various habitats to catch a view of our winged friends.
URL:https://parksevents.westchestercountyny.gov/event/first-wednesdays-bird-walk-3/2026-08-05/
LOCATION:Hilltop Hanover Farm\, 1271 Hanover Street\, Yorktown Heights\, NY\, 10598\, United States
CATEGORIES:Nature & the Outdoors
ATTACH;FMTTYPE=image/jpeg:https://parksevents.westchestercountyny.gov/wp-content/uploads/2025/06/bird-migration.jpg
END:VEVENT
BEGIN:VEVENT
DTSTART;TZID=America/New_York:20260902T073000
DTEND;TZID=America/New_York:20260902T093000
DTSTAMP:20260419T204049
CREATED:20260304T192923Z
LAST-MODIFIED:20260401T123707Z
UID:10014882-1788334200-1788341400@parksevents.westchestercountyny.gov
SUMMARY:First Wednesday’s Bird Walk
DESCRIPTION:Join the Bedford Audubon Society at Hilltop for the first Wednesday of each month! Birders of all levels are welcome on this exploration of the farm through various habitats to catch a view of our winged friends.
URL:https://parksevents.westchestercountyny.gov/event/first-wednesdays-bird-walk-3/2026-09-02/
LOCATION:Hilltop Hanover Farm\, 1271 Hanover Street\, Yorktown Heights\, NY\, 10598\, United States
CATEGORIES:Nature & the Outdoors
ATTACH;FMTTYPE=image/jpeg:https://parksevents.westchestercountyny.gov/wp-content/uploads/2025/06/bird-migration.jpg
END:VEVENT
BEGIN:VEVENT
DTSTART;TZID=America/New_York:20261007T073000
DTEND;TZID=America/New_York:20261007T093000
DTSTAMP:20260419T204049
CREATED:20260304T192923Z
LAST-MODIFIED:20260401T123707Z
UID:10014885-1791358200-1791365400@parksevents.westchestercountyny.gov
SUMMARY:First Wednesday’s Bird Walk
DESCRIPTION:Join the Bedford Audubon Society at Hilltop for the first Wednesday of each month! Birders of all levels are welcome on this exploration of the farm through various habitats to catch a view of our winged friends.
URL:https://parksevents.westchestercountyny.gov/event/first-wednesdays-bird-walk-3/2026-10-07/
LOCATION:Hilltop Hanover Farm\, 1271 Hanover Street\, Yorktown Heights\, NY\, 10598\, United States
CATEGORIES:Nature & the Outdoors
ATTACH;FMTTYPE=image/jpeg:https://parksevents.westchestercountyny.gov/wp-content/uploads/2025/06/bird-migration.jpg
END:VEVENT
BEGIN:VEVENT
DTSTART;TZID=America/New_York:20261104T073000
DTEND;TZID=America/New_York:20261104T093000
DTSTAMP:20260419T204049
CREATED:20260304T192923Z
LAST-MODIFIED:20260401T123707Z
UID:10014888-1793777400-1793784600@parksevents.westchestercountyny.gov
SUMMARY:First Wednesday’s Bird Walk
DESCRIPTION:Join the Bedford Audubon Society at Hilltop for the first Wednesday of each month! Birders of all levels are welcome on this exploration of the farm through various habitats to catch a view of our winged friends.
URL:https://parksevents.westchestercountyny.gov/event/first-wednesdays-bird-walk-3/2026-11-04/
LOCATION:Hilltop Hanover Farm\, 1271 Hanover Street\, Yorktown Heights\, NY\, 10598\, United States
CATEGORIES:Nature & the Outdoors
ATTACH;FMTTYPE=image/jpeg:https://parksevents.westchestercountyny.gov/wp-content/uploads/2025/06/bird-migration.jpg
END:VEVENT
END:VCALENDAR