BEGIN:VCALENDAR
VERSION:2.0
PRODID:-//Westchester County Parks Events Calendar - ECPv6.15.20//NONSGML v1.0//EN
CALSCALE:GREGORIAN
METHOD:PUBLISH
X-WR-CALNAME:Westchester County Parks Events Calendar
X-ORIGINAL-URL:https://parksevents.westchestercountyny.gov
X-WR-CALDESC:Events for Westchester County Parks Events Calendar
REFRESH-INTERVAL;VALUE=DURATION:PT1H
X-Robots-Tag:noindex
X-PUBLISHED-TTL:PT1H
BEGIN:VTIMEZONE
TZID:America/New_York
BEGIN:DAYLIGHT
TZOFFSETFROM:-0500
TZOFFSETTO:-0400
TZNAME:EDT
DTSTART:20250309T070000
END:DAYLIGHT
BEGIN:STANDARD
TZOFFSETFROM:-0400
TZOFFSETTO:-0500
TZNAME:EST
DTSTART:20251102T060000
END:STANDARD
BEGIN:DAYLIGHT
TZOFFSETFROM:-0500
TZOFFSETTO:-0400
TZNAME:EDT
DTSTART:20260308T070000
END:DAYLIGHT
BEGIN:STANDARD
TZOFFSETFROM:-0400
TZOFFSETTO:-0500
TZNAME:EST
DTSTART:20261101T060000
END:STANDARD
BEGIN:DAYLIGHT
TZOFFSETFROM:-0500
TZOFFSETTO:-0400
TZNAME:EDT
DTSTART:20270314T070000
END:DAYLIGHT
BEGIN:STANDARD
TZOFFSETFROM:-0400
TZOFFSETTO:-0500
TZNAME:EST
DTSTART:20271107T060000
END:STANDARD
END:VTIMEZONE
BEGIN:VEVENT
DTSTART;TZID=America/New_York:20260627T080000
DTEND;TZID=America/New_York:20260627T170000
DTSTAMP:20260421T124746
CREATED:20260306T190459Z
LAST-MODIFIED:20260306T190600Z
UID:10011578-1782547200-1782579600@parksevents.westchestercountyny.gov
SUMMARY:Young Childrens Story and Craft
DESCRIPTION:Children will participate in a story about best friends Lonnie the Lasdon Bunnie and Chippie the Chipmunk. They will go on a scavenger hunt looking for them and make a special seasonal craft. 6 children max. Ages 3 years old to 5 years old. \nRegistration required at lasdonpark.org. Registration ends June 26. Fee: $5:00.
URL:https://parksevents.westchestercountyny.gov/event/young-childrens-story-and-craft-3/
LOCATION:Lasdon Public Gardens\, 2610 Amawalk Road\, Route 35\, Katonah\, NY\, 10536\, United States
CATEGORIES:Arts, Culture & History
ATTACH;FMTTYPE=image/jpeg:https://parksevents.westchestercountyny.gov/wp-content/uploads/2025/06/SE_crafts.jpg
END:VEVENT
BEGIN:VEVENT
DTSTART;TZID=America/New_York:20260627T110000
DTEND;TZID=America/New_York:20260627T120000
DTSTAMP:20260421T124746
CREATED:20260306T190459Z
LAST-MODIFIED:20260306T190600Z
UID:10011581-1782558000-1782561600@parksevents.westchestercountyny.gov
SUMMARY:Young Childrens Story and Craft
DESCRIPTION:Children will participate in a story about best friends Lonnie the Lasdon Bunnie and Chippie the Chipmunk. They will go on a scavenger hunt looking for them and make a special seasonal craft. 6 children max. Ages 3 years old to 5 years old. \nRegistration required at lasdonpark.org. Registration ends June 26. Fee: $5:00.
URL:https://parksevents.westchestercountyny.gov/event/young-childrens-story-and-craft-3/
LOCATION:Lasdon Public Gardens\, 2610 Amawalk Road\, Route 35\, Katonah\, NY\, 10536\, United States
CATEGORIES:Arts, Culture & History
ATTACH;FMTTYPE=image/jpeg:https://parksevents.westchestercountyny.gov/wp-content/uploads/2025/06/SE_crafts.jpg
END:VEVENT
END:VCALENDAR