BEGIN:VCALENDAR
VERSION:2.0
PRODID:-//Westchester County Parks Events Calendar - ECPv6.15.20//NONSGML v1.0//EN
CALSCALE:GREGORIAN
METHOD:PUBLISH
X-WR-CALNAME:Westchester County Parks Events Calendar
X-ORIGINAL-URL:https://parksevents.westchestercountyny.gov
X-WR-CALDESC:Events for Westchester County Parks Events Calendar
REFRESH-INTERVAL;VALUE=DURATION:PT1H
X-Robots-Tag:noindex
X-PUBLISHED-TTL:PT1H
BEGIN:VTIMEZONE
TZID:America/New_York
BEGIN:DAYLIGHT
TZOFFSETFROM:-0500
TZOFFSETTO:-0400
TZNAME:EDT
DTSTART:20250309T070000
END:DAYLIGHT
BEGIN:STANDARD
TZOFFSETFROM:-0400
TZOFFSETTO:-0500
TZNAME:EST
DTSTART:20251102T060000
END:STANDARD
BEGIN:DAYLIGHT
TZOFFSETFROM:-0500
TZOFFSETTO:-0400
TZNAME:EDT
DTSTART:20260308T070000
END:DAYLIGHT
BEGIN:STANDARD
TZOFFSETFROM:-0400
TZOFFSETTO:-0500
TZNAME:EST
DTSTART:20261101T060000
END:STANDARD
BEGIN:DAYLIGHT
TZOFFSETFROM:-0500
TZOFFSETTO:-0400
TZNAME:EDT
DTSTART:20270314T070000
END:DAYLIGHT
BEGIN:STANDARD
TZOFFSETFROM:-0400
TZOFFSETTO:-0500
TZNAME:EST
DTSTART:20271107T060000
END:STANDARD
END:VTIMEZONE
BEGIN:VEVENT
DTSTART;TZID=America/New_York:20260521T100000
DTEND;TZID=America/New_York:20260521T113000
DTSTAMP:20260421T124613
CREATED:20260306T193642Z
LAST-MODIFIED:20260306T193642Z
UID:10011332-1779357600-1779363000@parksevents.westchestercountyny.gov
SUMMARY:Stay and Play: Junior Stewardship Hour in the Soft Landing Meadow
DESCRIPTION:Find us between the Dino and Fairy trails for a chance to dig in and help with some gentle\, playful\, and educational gardening in our meadow restoration project. All ages.
URL:https://parksevents.westchestercountyny.gov/event/stay-and-play-junior-stewardship-hour-in-the-soft-landing-meadow/2026-05-21/
LOCATION:Lasdon Public Gardens\, 2610 Amawalk Road\, Route 35\, Katonah\, NY\, 10536\, United States
CATEGORIES:Nature & the Outdoors
ATTACH;FMTTYPE=image/jpeg:https://parksevents.westchestercountyny.gov/wp-content/uploads/2025/06/SE_Lasdontrees.jpg
ORGANIZER;CN="Deanna Novak":MAILTO:dbnn@westchestercountyny.gov
END:VEVENT
BEGIN:VEVENT
DTSTART;TZID=America/New_York:20260528T100000
DTEND;TZID=America/New_York:20260528T113000
DTSTAMP:20260421T124613
CREATED:20260306T193642Z
LAST-MODIFIED:20260306T193642Z
UID:10011335-1779962400-1779967800@parksevents.westchestercountyny.gov
SUMMARY:Stay and Play: Junior Stewardship Hour in the Soft Landing Meadow
DESCRIPTION:Find us between the Dino and Fairy trails for a chance to dig in and help with some gentle\, playful\, and educational gardening in our meadow restoration project. All ages.
URL:https://parksevents.westchestercountyny.gov/event/stay-and-play-junior-stewardship-hour-in-the-soft-landing-meadow/2026-05-28/
LOCATION:Lasdon Public Gardens\, 2610 Amawalk Road\, Route 35\, Katonah\, NY\, 10536\, United States
CATEGORIES:Nature & the Outdoors
ATTACH;FMTTYPE=image/jpeg:https://parksevents.westchestercountyny.gov/wp-content/uploads/2025/06/SE_Lasdontrees.jpg
ORGANIZER;CN="Deanna Novak":MAILTO:dbnn@westchestercountyny.gov
END:VEVENT
BEGIN:VEVENT
DTSTART;TZID=America/New_York:20260611T100000
DTEND;TZID=America/New_York:20260611T113000
DTSTAMP:20260421T124613
CREATED:20260306T193642Z
LAST-MODIFIED:20260306T193642Z
UID:10011338-1781172000-1781177400@parksevents.westchestercountyny.gov
SUMMARY:Stay and Play: Junior Stewardship Hour in the Soft Landing Meadow
DESCRIPTION:Find us between the Dino and Fairy trails for a chance to dig in and help with some gentle\, playful\, and educational gardening in our meadow restoration project. All ages.
URL:https://parksevents.westchestercountyny.gov/event/stay-and-play-junior-stewardship-hour-in-the-soft-landing-meadow/2026-06-11/
LOCATION:Lasdon Public Gardens\, 2610 Amawalk Road\, Route 35\, Katonah\, NY\, 10536\, United States
CATEGORIES:Nature & the Outdoors
ATTACH;FMTTYPE=image/jpeg:https://parksevents.westchestercountyny.gov/wp-content/uploads/2025/06/SE_Lasdontrees.jpg
ORGANIZER;CN="Deanna Novak":MAILTO:dbnn@westchestercountyny.gov
END:VEVENT
BEGIN:VEVENT
DTSTART;TZID=America/New_York:20260618T100000
DTEND;TZID=America/New_York:20260618T113000
DTSTAMP:20260421T124613
CREATED:20260306T193642Z
LAST-MODIFIED:20260306T193642Z
UID:10011341-1781776800-1781782200@parksevents.westchestercountyny.gov
SUMMARY:Stay and Play: Junior Stewardship Hour in the Soft Landing Meadow
DESCRIPTION:Find us between the Dino and Fairy trails for a chance to dig in and help with some gentle\, playful\, and educational gardening in our meadow restoration project. All ages.
URL:https://parksevents.westchestercountyny.gov/event/stay-and-play-junior-stewardship-hour-in-the-soft-landing-meadow/2026-06-18/
LOCATION:Lasdon Public Gardens\, 2610 Amawalk Road\, Route 35\, Katonah\, NY\, 10536\, United States
CATEGORIES:Nature & the Outdoors
ATTACH;FMTTYPE=image/jpeg:https://parksevents.westchestercountyny.gov/wp-content/uploads/2025/06/SE_Lasdontrees.jpg
ORGANIZER;CN="Deanna Novak":MAILTO:dbnn@westchestercountyny.gov
END:VEVENT
END:VCALENDAR