BEGIN:VCALENDAR
VERSION:2.0
PRODID:-//Westchester County Parks Events Calendar - ECPv6.15.20//NONSGML v1.0//EN
CALSCALE:GREGORIAN
METHOD:PUBLISH
X-WR-CALNAME:Westchester County Parks Events Calendar
X-ORIGINAL-URL:https://parksevents.westchestercountyny.gov
X-WR-CALDESC:Events for Westchester County Parks Events Calendar
REFRESH-INTERVAL;VALUE=DURATION:PT1H
X-Robots-Tag:noindex
X-PUBLISHED-TTL:PT1H
BEGIN:VTIMEZONE
TZID:America/New_York
BEGIN:DAYLIGHT
TZOFFSETFROM:-0500
TZOFFSETTO:-0400
TZNAME:EDT
DTSTART:20250309T070000
END:DAYLIGHT
BEGIN:STANDARD
TZOFFSETFROM:-0400
TZOFFSETTO:-0500
TZNAME:EST
DTSTART:20251102T060000
END:STANDARD
BEGIN:DAYLIGHT
TZOFFSETFROM:-0500
TZOFFSETTO:-0400
TZNAME:EDT
DTSTART:20260308T070000
END:DAYLIGHT
BEGIN:STANDARD
TZOFFSETFROM:-0400
TZOFFSETTO:-0500
TZNAME:EST
DTSTART:20261101T060000
END:STANDARD
BEGIN:DAYLIGHT
TZOFFSETFROM:-0500
TZOFFSETTO:-0400
TZNAME:EDT
DTSTART:20270314T070000
END:DAYLIGHT
BEGIN:STANDARD
TZOFFSETFROM:-0400
TZOFFSETTO:-0500
TZNAME:EST
DTSTART:20271107T060000
END:STANDARD
END:VTIMEZONE
BEGIN:VEVENT
DTSTART;TZID=America/New_York:20260823T120000
DTEND;TZID=America/New_York:20260823T180000
DTSTAMP:20260421T062403
CREATED:20260408T173729Z
LAST-MODIFIED:20260408T201637Z
UID:10012883-1787486400-1787508000@parksevents.westchestercountyny.gov
SUMMARY:Muslim Heritage Festival
DESCRIPTION:This vibrant commemoration offers the public a unique opportunity to explore the rich heritage of Muslim communities through live performances\, music\, a bustling market\, arts and crafts\, food trucks\, and educational experiences highlighting American Muslim culture. \nAdmission and parking are free. The festival will be held rain or shine. Seating is informal; blankets or lawn chairs are recommended. Coolers are not allowed. Carpooling or taking mass transit is encouraged. To attend the festival via Metro-North\, take the Harlem Line to the Valhalla Station\, which is a short walk from the park. \nPresented by Ahlan-NY and co-sponsored by Westchester County Parks\, the Muslim Heritage Festival is a welcoming celebration open to all.
URL:https://parksevents.westchestercountyny.gov/event/muslim-heritage-festival-2/
LOCATION:Kensico Dam Plaza\, 1 Bronx River Parkway\, Valhalla\, NY\, 10595\, United States
CATEGORIES:Festival,Special Events
ATTACH;FMTTYPE=image/jpeg:https://parksevents.westchestercountyny.gov/wp-content/uploads/2026/03/heritage_festivals.jpg
END:VEVENT
BEGIN:VEVENT
DTSTART;TZID=America/New_York:20260913T120000
DTEND;TZID=America/New_York:20260913T180000
DTSTAMP:20260421T062403
CREATED:20260408T173814Z
LAST-MODIFIED:20260408T200757Z
UID:10008293-1789300800-1789322400@parksevents.westchestercountyny.gov
SUMMARY:Arab-American Festival
DESCRIPTION:This vibrant cultural celebration honors the rich traditions and contributions of Arab-American communities throughout the region. Festivalgoers can enjoy authentic Middle Eastern cuisine from popular vendors. The day will be filled with live music and dance performances. The Arab-American Heritage Festival is a family-friendly event that invites all to explore and embrace the beauty\, warmth and creativity of Mediterranean communities. The festival will be held rain or shine. Admission and parking are free.
URL:https://parksevents.westchestercountyny.gov/event/arab-american-festival/
LOCATION:Kensico Dam Plaza\, 1 Bronx River Parkway\, Valhalla\, NY\, 10595\, United States
CATEGORIES:Festival,Special Events
ATTACH;FMTTYPE=image/jpeg:https://parksevents.westchestercountyny.gov/wp-content/uploads/2026/03/heritage_festivals.jpg
ORGANIZER;CN="Deslyn Martirano":MAILTO:damb@westchestercountyny.gov
END:VEVENT
END:VCALENDAR